BEGIN:VCALENDAR
VERSION:2.0
PRODID:-//ChamberMaster//Event Calendar 2.0//EN
METHOD:PUBLISH
X-PUBLISHED-TTL:P3D
REFRESH-INTERVAL:P3D
CALSCALE:GREGORIAN
BEGIN:VEVENT
DTSTART:20140510T233000Z
DTEND:20140511T013000Z
X-MICROSOFT-CDO-ALLDAYEVENT:FALSE
SUMMARY:Joseph and the Amazing Technicolor Dreamcoat
DESCRIPTION:Clio Cast & Crew Presents “Joseph and the Amazing Technicolor Dreamcoat.” Based on the Biblical story of Joseph and his coat of many colors\, enjoy this story about Jacob’s favorite son\, Joseph\, as his resentful siblings sell him into slavery. Joseph eventually finds himself in jail. However\, his favorable interpretation of the dreams of the Pharaoh win him the admiration of the all-powerful leader and soon Joseph is one of the most powerful men in Egypt. For details\, ticket information and a schedule of upcoming shows visit www.cliocastandcrew.com.
X-ALT-DESC;FMTTYPE=text/html:Clio Cast &amp\; Crew Presents “Joseph and the Amazing Technicolor Dreamcoat.” Based on the Biblical story of Joseph and his coat of many colors\, enjoy this story about Jacob’s favorite son\, Joseph\, as his resentful siblings sell him into slavery. Joseph eventually finds himself in jail. However\, his favorable interpretation of the dreams of the Pharaoh win him the admiration of the all-powerful leader and soon Joseph is one of the most powerful men in Egypt. For details\, ticket information and a schedule of upcoming shows visit <a title="Clio Cast and Crew" href="http://www.cliocastandcrew.com/showtimes" target="_blank">www.cliocastandcrew.com</a>.
LOCATION:Clio Cast and Crew 2220 West Vienna Rd Clio Michigan 48420
UID:e.2606.940
SEQUENCE:3
DTSTAMP:20260421T101546Z
URL:https://members.flintandgeneseechamber.org/events/details/joseph-and-the-amazing-technicolor-dreamcoat-05-10-2014-940
END:VEVENT

END:VCALENDAR
