BEGIN:VCALENDAR
VERSION:2.0
PRODID:-//ChamberMaster//Event Calendar 2.0//EN
METHOD:PUBLISH
X-PUBLISHED-TTL:P3D
REFRESH-INTERVAL:P3D
CALSCALE:GREGORIAN
BEGIN:VEVENT
DTSTART:20140410T123000Z
DTEND:20140410T200000Z
X-MICROSOFT-CDO-ALLDAYEVENT:FALSE
SUMMARY:Jumping into the Gap
DESCRIPTION:presented by Greater Flint Educational Symposium\n\nExploring the role of race\, place and class on educational achievement\n\nFeaturing: Dr. Tyrone Howard\, UCLA professor and author of Why Race and Culture Matter in Schools and Black Male(d): Peril and Promise in the Education of African American Males
X-ALT-DESC;FMTTYPE=text/html:presented by Greater Flint Educational Symposium\n\nExploring the role of race\, place and class on educational achievement\n\nFeaturing: Dr. Tyrone Howard\, UCLA professor and author of Why Race and Culture Matter in Schools and Black Male(d): Peril and Promise in the Education of African American Males\n\n&nbsp\;\n\n&nbsp\;
LOCATION:Riverfront Banquet Center 1 Riverfront Flint MI 48502
UID:e.2606.857
SEQUENCE:3
DTSTAMP:20260421T112117Z
URL:https://members.flintandgeneseechamber.org/events/details/jumping-into-the-gap-04-10-2014-857
END:VEVENT

END:VCALENDAR
