BEGIN:VCALENDAR
VERSION:2.0
PRODID:-//ChamberMaster//Event Calendar 2.0//EN
METHOD:PUBLISH
X-PUBLISHED-TTL:P3D
REFRESH-INTERVAL:P3D
CALSCALE:GREGORIAN
BEGIN:VEVENT
DTSTART:20130228T130000Z
DTEND:20130228T183000Z
X-MICROSOFT-CDO-ALLDAYEVENT:FALSE
SUMMARY:Jumpstart Entrepreneur Conference
DESCRIPTION:Cost: $20 per person\, special student pricing available (includes breakfast and lunch)\n\nRegister Online: http://www.thegrcc.org/jumpstart
X-ALT-DESC;FMTTYPE=text/html:Cost: $20 per person\, special student pricing available (includes breakfast and lunch)\n\nRegister Online: <a href="http://www.thegrcc.org/jumpstart" target="_blank">http://www.thegrcc.org/jumpstart</a>
LOCATION:Holiday Inn Gateway Centre 5353 Gateway Centre Flint
UID:e.2606.23
SEQUENCE:3
DTSTAMP:20260422T092331Z
URL:https://members.flintandgeneseechamber.org/events/details/jumpstart-entrepreneur-conference-02-28-2013-23
END:VEVENT

END:VCALENDAR
