BEGIN:VCALENDAR
VERSION:2.0
PRODID:-//ChamberMaster//Event Calendar 2.0//EN
METHOD:PUBLISH
X-PUBLISHED-TTL:P3D
REFRESH-INTERVAL:P3D
CALSCALE:GREGORIAN
BEGIN:VEVENT
DTSTART:20130720T160000Z
DTEND:20130722T013000Z
X-MICROSOFT-CDO-ALLDAYEVENT:FALSE
SUMMARY:“Keep On Keepin’ On” Afrikan American Festival in Downtown Flint
DESCRIPTION:Come be part of the 15th Annual "Keep On Keepin' On" Afrikan American Festival featuring exotic aromas\, delicious food\, vibrant color\, energy and the excitement of an Afrikan Village. Enjoy all day entertainment\, cultural vendors\, Afrikan Drumming & Dancing\, a Children's Village\, a school supply giveaway (Saturday only) and so much more. There will be something for everyone!  For a detailed schedule of activities visit www.afojabeafrikanvillage.weebly.com.
X-ALT-DESC;FMTTYPE=text/html:Come be part of the 15th Annual "Keep On Keepin' On" Afrikan American Festival featuring exotic aromas\, delicious food\, vibrant color\, energy and the excitement of an Afrikan Village. Enjoy all day entertainment\, cultural vendors\, Afrikan Drumming &amp\; Dancing\, a Children's Village\, a school supply giveaway (Saturday only) and so much more. There will be something for everyone!  For a detailed schedule of activities visit <a title="Afojabe Afrikan Village\, Inc. " href="http://afojabeafrikanvillage.weebly.com/" target="_blank">www.afojabeafrikanvillage.weebly.com</a>.\n\n&nbsp\;\n\n&nbsp\;\n\n&nbsp\;\n\n&nbsp\;
LOCATION:Riverbank Park in Downtown Flint Riverbank Park Flint Michigan
UID:e.2606.112
SEQUENCE:3
DTSTAMP:20260422T005541Z
URL:https://members.flintandgeneseechamber.org/events/details/keep-on-keepin-on-afrikan-american-festival-in-downtown-flint-07-20-2013-112
END:VEVENT

END:VCALENDAR
