BEGIN:VCALENDAR
VERSION:2.0
PRODID:-//ChamberMaster//Event Calendar 2.0//EN
METHOD:PUBLISH
X-PUBLISHED-TTL:P3D
REFRESH-INTERVAL:P3D
CALSCALE:GREGORIAN
BEGIN:VEVENT
DTSTART:20131108T180000Z
DTEND:20131108T210000Z
X-MICROSOFT-CDO-ALLDAYEVENT:FALSE
SUMMARY:Keeping a Job: Career Edge Workshop Series | CRM-EETCADULT
DESCRIPTION:Now you have the job - what’s next? Once you begin your job\, learning the importance of Dependability\, Workplace Ethics\, Teamwork and Sphere of Influence is a critical part of keeping the job you worked so hard to get! This workshop will introduce a variety of qualities and characteristics that employers want to see in their staff once hired. Participants will also gain valuable information related to sexual harassment and what this means in the work place.\n\nCost for the program is $10 for students (high school and college) per workshop\, and $15 for all others per workshop. Scholarships are available\, contact rhunyady@flintandgenesee.org for information.\nAbout Career Edge\nCareer Edge is a series of workshops designed to help adults prepare for the job market. Whether new to the job market\, returning to the job market or simply having trouble navigating the job market\, these workshops are designed to give participants the skills needed to get and keep a job. Workshops are offered as half-day sessions on Fridays from September through November. Participants may take any or all of the workshops\, in any order\, at their convenience.\n\nClick here for additional workshop topics and dates.
X-ALT-DESC;FMTTYPE=text/html:Now you have the job - what’s next? Once you begin your job\, learning the importance of Dependability\, Workplace Ethics\, Teamwork and Sphere of Influence is a critical part of keeping the job you worked so hard to get! This workshop will introduce a variety of qualities and characteristics that employers want to see in their staff once hired. Participants will also gain valuable information related to sexual harassment and what this means in the work place.\n\nCost for the program is $10 for students (high school and college) per workshop\, and $15 for all others per workshop. Scholarships are available\, contact <a href="mailto:rhunyady@flintandgenesee.org">rhunyady@flintandgenesee.org</a> for information.\n<h3>About Career Edge</h3>\nCareer Edge is a series of workshops designed to help adults prepare for the job market. Whether new to the job market\, returning to the job market or simply having trouble navigating the job market\, these workshops are designed to give participants the skills needed to get and keep a job. Workshops are offered as half-day sessions on Fridays from September through November. Participants may take any or all of the workshops\, in any order\, at their convenience.\n\n<a href="http://www.flintandgenesee.org/careeredge">Click here for additional workshop topics and dates.</a>
LOCATION:Flint & Genesee Chamber of Commerce 519 S. Saginaw St. Flint MI 48502
UID:e.2606.506
SEQUENCE:3
DTSTAMP:20260421T185312Z
URL:https://members.flintandgeneseechamber.org/events/details/keeping-a-job-career-edge-workshop-series-crm-eetcadult-11-08-2013-506
END:VEVENT

END:VCALENDAR
