BEGIN:VCALENDAR
VERSION:2.0
PRODID:-//ChamberMaster//Event Calendar 2.0//EN
METHOD:PUBLISH
X-PUBLISHED-TTL:P3D
REFRESH-INTERVAL:P3D
CALSCALE:GREGORIAN
BEGIN:VEVENT
DTSTART:20140503T133000Z
DTEND:20140503T230000Z
X-MICROSOFT-CDO-ALLDAYEVENT:FALSE
SUMMARY:Kentucky Derby at Sports Creek Raceway
DESCRIPTION:Watch and wager on the exciting Kentucky Derby at Sports Creek Raceway. Doors open at 9:30 a.m. with the first race from Churchill Downs beginning at 10:30 a.m. Enjoy breakfast as well as a special Derby Day Menu\, drawings throughout the day plus all the horse racing action you can bet on. For a detailed schedule of activities and upcoming events at Sports Creek Raceway\, visit www.sportscreek.com or call (810) 635-3333.
X-ALT-DESC;FMTTYPE=text/html:Watch and wager on the exciting Kentucky Derby at Sports Creek Raceway. Doors open at 9:30 a.m. with the first race from Churchill Downs beginning at 10:30 a.m. Enjoy breakfast as well as a special Derby Day Menu\, drawings throughout the day plus all the horse racing action you can bet on. For a detailed schedule of activities and upcoming events at Sports Creek Raceway\, visit <a title="Sports Creek Raceway" href="http://www.sportscreek.com/" target="_blank">www.sportscreek.com</a> or call (810) 635-3333.
LOCATION:Sports Creek Raceway 4290 Morrish Road Swartz Creek Michigan
UID:e.2606.906
SEQUENCE:3
DTSTAMP:20260421T102718Z
URL:https://members.flintandgeneseechamber.org/events/details/kentucky-derby-at-sports-creek-raceway-05-03-2014-906
END:VEVENT

END:VCALENDAR
