BEGIN:VCALENDAR
VERSION:2.0
PRODID:-//ChamberMaster//Event Calendar 2.0//EN
METHOD:PUBLISH
X-PUBLISHED-TTL:P3D
REFRESH-INTERVAL:P3D
CALSCALE:GREGORIAN
BEGIN:VEVENT
DTSTART:20190601T150000Z
DTEND:20190601T160000Z
X-MICROSOFT-CDO-ALLDAYEVENT:FALSE
SUMMARY:Kids Painting in Nature - Treehouse
DESCRIPTION:What better place to paint then in nature! Join local art instructor Andrea Linton as she teaches the kids step-by-step painting to create a natural masterpiece. This month's painting theme will be on Treehouses. Recommended for families with children 5 years and older. Pre-registration by 5/30 by calling Andrea at (810) 895-1748. For more information and a schedule of upcoming For-Mar/Genesee County Parks events visit geneseecountyparks.org.
X-ALT-DESC;FMTTYPE=text/html:What better place to paint then in nature! Join local art instructor Andrea Linton as she teaches the kids step-by-step painting to create a natural masterpiece. This month&rsquo\;s painting theme will be on Treehouses. Recommended for families with children 5 years and older. Pre-registration by 5/30 by calling Andrea at (810) 895-1748.&nbsp\;<span style="color: rgb(51\, 51\, 51)\; font-family: sans-serif\, Arial\, Verdana\, &quot\;Trebuchet MS&quot\;\; font-size: 13px\; background-color: rgb(255\, 255\, 255)\;">For more information and a schedule of upcoming For-Mar/Genesee County Parks events visit&nbsp\;</span><a href="http://geneseecountyparks.org/" style="color: rgb(7\, 130\, 193)\; font-family: sans-serif\, Arial\, Verdana\, &quot\;Trebuchet MS&quot\;\; font-size: 13px\;" target="_blank">geneseecountyparks.org</a><span style="color: rgb(51\, 51\, 51)\; font-family: sans-serif\, Arial\, Verdana\, &quot\;Trebuchet MS&quot\;\; font-size: 13px\; background-color: rgb(255\, 255\, 255)\;">.&nbsp\;&nbsp\;</span>
LOCATION:For-Mar Nature Preserve 2142 N. Genesee Road Burton\, MI 48509
UID:e.2606.9326
SEQUENCE:3
DTSTAMP:20260421T084853Z
URL:https://members.flintandgeneseechamber.org/events/details/kids-painting-in-nature-treehouse-9326
END:VEVENT

END:VCALENDAR
