BEGIN:VCALENDAR
VERSION:2.0
PRODID:-//ChamberMaster//Event Calendar 2.0//EN
METHOD:PUBLISH
X-PUBLISHED-TTL:P3D
REFRESH-INTERVAL:P3D
CALSCALE:GREGORIAN
BEGIN:VEVENT
DTSTART:20130727T140000Z
DTEND:20130728T200000Z
X-MICROSOFT-CDO-ALLDAYEVENT:FALSE
SUMMARY:Krystal Art Festival in Swartz Creek
DESCRIPTION:Browse and shop during this fine art festival featuring metal sculptures\, wood carvings\, paintings\, drawings\, photography\, textiles\, glass\, jewelry\, pottery\, ceramics and more. Artists are from numerous states including Ohio\, Florida\, Wisconsin\, Illinois\, Indiana and many Michigan cities. Art Fair hours run Saturday from 9 a.m. to 5 p.m. and Sunday from 10 a.m. to 4 p.m. For a detailed schedule of activities visit www.swartzcreekkiwanis.org.
X-ALT-DESC;FMTTYPE=text/html:Browse and shop during this fine art festival featuring metal sculptures\, wood carvings\, paintings\, drawings\, photography\, textiles\, glass\, jewelry\, pottery\, ceramics and more. Artists are from numerous states including Ohio\, Florida\, Wisconsin\, Illinois\, Indiana and many Michigan cities. Art Fair hours run Saturday from 9 a.m. to 5 p.m. and Sunday from 10 a.m. to 4 p.m. For a detailed schedule of activities visit <a href="http://www.swartzcreekkiwanis.org/" target="_blank">www.swartzcreekkiwanis.org</a>.
LOCATION:Cage Fieldhouse 4110 Morrish Road Swartz Creek Michigan
UID:e.2606.74
SEQUENCE:3
DTSTAMP:20260422T010114Z
URL:https://members.flintandgeneseechamber.org/events/details/krystal-art-festival-in-swartz-creek-07-27-2013-74
END:VEVENT

END:VCALENDAR
