BEGIN:VCALENDAR
VERSION:2.0
PRODID:-//ChamberMaster//Event Calendar 2.0//EN
METHOD:PUBLISH
X-PUBLISHED-TTL:P3D
REFRESH-INTERVAL:P3D
CALSCALE:GREGORIAN
BEGIN:VEVENT
DTSTART;VALUE=DATE:20130816
DTEND;VALUE=DATE:20130819
TRANSP:TRANSPARENT
X-MICROSOFT-CDO-ALLDAYEVENT:TRUE
SUMMARY:Lapeer Days Festival
DESCRIPTION:Enjoy a weekend of family fun activities featuring three stages of entertainment\, a Lapeer Day parade\, carnival rides\, a children's giant sandbox\, spaghetti eating contest\, kiddy carnival games\, magicians\, face painting\, an annual candy drop\, classic car show\, juried craft show and more. For a detailed schedule of events visit www.lapeerdays.com.
X-ALT-DESC;FMTTYPE=text/html:Enjoy a weekend of family fun activities featuring three stages of entertainment\, a Lapeer Day parade\, carnival rides\, a children's giant sandbox\, spaghetti eating contest\, kiddy carnival games\, magicians\, face painting\, an annual candy drop\, classic car show\, juried craft show and more. For a detailed schedule of events visit <a href="http://www.lapeerdays.com/" target="_blank">www.lapeerdays.com</a>.
LOCATION:Downtown Lapeer\, Nepessing Street 287 W. Nepessing Street Lapeer MI
UID:e.2606.140
SEQUENCE:3
DTSTAMP:20260421T233834Z
URL:https://members.flintandgeneseechamber.org/events/details/lapeer-days-festival-08-16-2013-140
END:VEVENT

END:VCALENDAR
