BEGIN:VCALENDAR
VERSION:2.0
PRODID:-//ChamberMaster//Event Calendar 2.0//EN
METHOD:PUBLISH
X-PUBLISHED-TTL:P3D
REFRESH-INTERVAL:P3D
CALSCALE:GREGORIAN
BEGIN:VEVENT
DTSTART:20131026T193000Z
DTEND:20131027T203000Z
X-MICROSOFT-CDO-ALLDAYEVENT:FALSE
SUMMARY:''Laser Spooktacular'' at Longway Planetarium
DESCRIPTION:Bring your ghosts\, goblins and other assorted creepy\, crawly monsters to this slightly spooky\, yet frightfully fun laser show featuring Halloween favorites such as "Monster Mash"\, "Ghostbusters" and "The Purple People Eater." Recommended for families of all ages. For details and a schedule of upcoming shows visit www.SloanLongway.org.
X-ALT-DESC;FMTTYPE=text/html:Bring your ghosts\, goblins and other assorted creepy\, crawly monsters to this slightly spooky\, yet frightfully fun laser show featuring Halloween favorites such as "Monster Mash"\, "Ghostbusters" and "The Purple People Eater." Recommended for families of all ages. For details and a schedule of upcoming shows visit <a title="Longway Planetarium " href="http://sloanlongway.org/longway-planetarium/laser-shows" target="_blank">www.SloanLongway.org</a>.
LOCATION:Longway Planetarium 1310 E. Kearsley Street Flint Michigan
UID:e.2606.573
SEQUENCE:3
DTSTAMP:20260421T202751Z
URL:https://members.flintandgeneseechamber.org/events/details/laser-spooktacular-at-longway-planetarium-10-26-2013-573
END:VEVENT

END:VCALENDAR
