BEGIN:VCALENDAR
VERSION:2.0
PRODID:-//ChamberMaster//Event Calendar 2.0//EN
METHOD:PUBLISH
X-PUBLISHED-TTL:P3D
REFRESH-INTERVAL:P3D
CALSCALE:GREGORIAN
BEGIN:VEVENT
DTSTART:20131004T130000Z
DTEND:20131004T160000Z
X-MICROSOFT-CDO-ALLDAYEVENT:FALSE
SUMMARY:Laying the Foundation: Career Edge Workshop Series | CRM-EETCADULT
DESCRIPTION:Preparing yourself for the job market is an important part of your overall success. Before you begin the job search process\, whether you are entering the work force or looking to make a job change\, it is necessary to understand the importance of effective Communication\, Business Etiquette\, the correct Attitude\, Planning & Goal Setting and identifying the talents you have to share with an employer through Skill Assessment.\n\nCost for the program is $10 for students (high school and college) per workshop\, and $15 for all others per workshop. Scholarships are available\, contact rhunyady@flintandgenesee.org for information.\nAbout Career Edge\nCareer Edge is a series of workshops designed to help adults prepare for the job market. Whether new to the job market\, returning to the job market or simply having trouble navigating the job market\, these workshops are designed to give participants the skills needed to get and keep a job. Workshops are offered as half-day sessions on Fridays from September through November. Participants may take any or all of the workshops\, in any order\, at their convenience.\n\nClick here for additional workshop topics and dates.
X-ALT-DESC;FMTTYPE=text/html:Preparing yourself for the job market is an important part of your overall success. Before you begin the job search process\, whether you are entering the work force or looking to make a job change\, it is necessary to understand the importance of effective Communication\, Business Etiquette\, the correct Attitude\, Planning &amp\; Goal Setting and identifying the talents you have to share with an employer through Skill Assessment.\n\nCost for the program is $10 for students (high school and college) per workshop\, and $15 for all others per workshop. Scholarships are available\, contact <a href="mailto:rhunyady@flintandgenesee.org">rhunyady@flintandgenesee.org</a> for information.\n<h3>About Career Edge</h3>\nCareer Edge is a series of workshops designed to help adults prepare for the job market. Whether new to the job market\, returning to the job market or simply having trouble navigating the job market\, these workshops are designed to give participants the skills needed to get and keep a job. Workshops are offered as half-day sessions on Fridays from September through November. Participants may take any or all of the workshops\, in any order\, at their convenience.\n\n<a href="http://www.flintandgenesee.org/careeredge">Click here for additional workshop topics and dates.</a>
LOCATION:Flint & Genesee Chamber of Commerce 519 S. Saginaw St. Flint MI 48502
UID:e.2606.488
SEQUENCE:3
DTSTAMP:20260421T203051Z
URL:https://members.flintandgeneseechamber.org/events/details/laying-the-foundation-career-edge-workshop-series-crm-eetcadult-10-04-2013-488
END:VEVENT

END:VCALENDAR
