BEGIN:VCALENDAR
VERSION:2.0
PRODID:-//ChamberMaster//Event Calendar 2.0//EN
METHOD:PUBLISH
X-PUBLISHED-TTL:P3D
REFRESH-INTERVAL:P3D
CALSCALE:GREGORIAN
BEGIN:VEVENT
DTSTART:20240521T210000Z
DTEND:20240522T000000Z
X-MICROSOFT-CDO-ALLDAYEVENT:FALSE
SUMMARY:Leadership Flint & Genesee Alumni Reunion
DESCRIPTION:Flint & Genesee Education & Talent is excited to host the inaugural Leadership Flint & Genesee alumni reunion. Since 1973\, the program has gone by many names\, but our commitment to developing community leaders has remained the same. Join us as we celebrate 50 years of leadership excellence!\n\n\n\nWe are pleased to welcome graduates of Leadership Flint\, Leadership Genesee\, BEST Nonprofit Leadership Institute\, Leadership Alliance\, Leadership Now\, and Leadership Flint & Genesee. \n\n\n\nAgenda \n\n\n	5:00 Registration & Networking Reception \n	5:30 Welcome & Dinner \n	6:15 Opening Remarks  \n	\n		Recognition of 2023 program graduates\n		Alumni Keynote ft. Dale Weighill\, Associate Vice President at Mott Community College\, Genesee County Commissioner
X-ALT-DESC;FMTTYPE=text/html:<p class="elementtoproof"><span style="font-family:arial\;"><span style="font-size:16px\;">Flint &amp\; Genesee Education &amp\; Talent is excited to&nbsp\;host the inaugural Leadership Flint &amp\; Genesee alumni reunion. Since 1973\, the program has gone by many names\, but our commitment to developing community&nbsp\;leaders has remained the same. Join us as we celebrate 50 years of leadership excellence!<br />\n<br />\nWe are pleased to welcome graduates of Leadership Flint\, Leadership Genesee\, BEST Nonprofit Leadership Institute\, Leadership Alliance\, Leadership Now\, and Leadership Flint &amp\; Genesee.&nbsp\;<br />\n<br />\nAgenda&nbsp\;</span></span></p>\n\n<ul>\n	<li class="elementtoproof"><span style="font-family:arial\;"><span style="font-size:16px\;">5:00 Registration &amp\; Networking Reception&nbsp\;</span></span></li>\n	<li style="margin-left:0in\;"><span style="font-family:arial\;"><span style="font-size:16px\;">5:30 Welcome &amp\; Dinner&nbsp\;</span></span></li>\n	<li style="margin-left:0in\;"><span style="font-family:arial\;"><span style="font-size:16px\;">6:15 Opening Remarks &nbsp\;</span></span>\n	<ul>\n		<li style="margin-left: 0in\;"><font face="arial"><span style="font-size: 16px\;">Recognition of 2023 program graduates</span></font></li>\n		<li style="margin-left: 0in\;"><span style="font-family:arial\;"><span style="font-size:16px\;">Alumni Keynote ft.&nbsp\;Dale Weighill\, Associate Vice President at Mott Community College\, Genesee County Commissioner&nbsp\;<o:p></o:p></span></span></li>\n	</ul>\n	</li>\n</ul>\n
LOCATION:Durant-Dort Factory One 303 W Water St\, Flint\, MI 48503
UID:e.2606.18207
SEQUENCE:3
DTSTAMP:20260421T150334Z
URL:https://members.flintandgeneseechamber.org/events/details/leadership-flint-genesee-alumni-reunion-18207
END:VEVENT

END:VCALENDAR
