BEGIN:VCALENDAR
VERSION:2.0
PRODID:-//ChamberMaster//Event Calendar 2.0//EN
METHOD:PUBLISH
X-PUBLISHED-TTL:P3D
REFRESH-INTERVAL:P3D
CALSCALE:GREGORIAN
BEGIN:VEVENT
DTSTART:20140708T230000Z
DTEND:20140709T010000Z
X-MICROSOFT-CDO-ALLDAYEVENT:FALSE
SUMMARY:Let's Go To The Hop!
DESCRIPTION:The Clio Amphitheater presents a night dedicated to the 50's Sock Hop featuring Danny & The Juniors\, the originators of Rock-N-Roll\, with songs like "The Twist\," "The Pony" and "The Swim." Tommy Vale & The Torpedos will also perform such hits as "Pony Express\," "Teenager in Love" and "The Hand Jive."  Gates open at 6 p.m. For details and a schedule of upcoming shows visit www.clio.govoffice.com.
X-ALT-DESC;FMTTYPE=text/html:The Clio Amphitheater presents a night dedicated to the 50's Sock Hop featuring Danny &amp\; The Juniors\, the originators of Rock-N-Roll\, with songs like "The Twist\," "The Pony" and "The Swim." Tommy Vale &amp\; The Torpedos will also perform such hits as "Pony Express\," "Teenager in Love" and "The Hand Jive."  Gates open at 6 p.m. For details and a schedule of upcoming shows visit <a title="Clio Amphitheater" href="http://www.clio.govoffice.com/" target="_blank">www.clio.govoffice.com</a>.
LOCATION:Clio Amphitheater 301 Rogers Lodge Drive Clio Michigan
UID:e.2606.1076
SEQUENCE:3
DTSTAMP:20260419T124123Z
URL:https://members.flintandgeneseechamber.org/events/details/let-s-go-to-the-hop-07-08-2014-1076
END:VEVENT

END:VCALENDAR
