BEGIN:VCALENDAR
VERSION:2.0
PRODID:-//ChamberMaster//Event Calendar 2.0//EN
METHOD:PUBLISH
X-PUBLISHED-TTL:P3D
REFRESH-INTERVAL:P3D
CALSCALE:GREGORIAN
BEGIN:VEVENT
DTSTART:20140708T230000Z
DTEND:20140709T010000Z
X-MICROSOFT-CDO-ALLDAYEVENT:FALSE
SUMMARY:Let's Go To The Hop! at Clio Amphitheater
DESCRIPTION:Enjoy an evening listening to the biggest musical hits of the 50's featuring Danny & The Juniors and Tommy Vale & The Torpedos. Relive Rock-N-Roll hits such as "The Pony"\, "The Swim"\, "The Fish"\, "Twistin USA"\, "Teenager In Love" and much more. Gates open at 6 p.m. For details and a schedule of upcoming shows visit www.cliogovoffice.com.
X-ALT-DESC;FMTTYPE=text/html:Enjoy an evening listening to the biggest musical hits of the 50's featuring Danny &amp\; The Juniors and Tommy Vale &amp\; The Torpedos. Relive Rock-N-Roll hits such as "The Pony"\, "The Swim"\, "The Fish"\, "Twistin USA"\, "Teenager In Love" and much more. Gates open at 6 p.m. For details and a schedule of upcoming shows visit <a title="Clio Amphitheater" href="http://www.clio.govoffice.com/index.asp?SEC=8C018E69-BDAB-4E5D-BDDF-D119AE895A2A&amp\;Type=B_BASIC" target="_blank">www.cliogovoffice.com</a>.
LOCATION:Clio Amphitheater 301 Rogers Lodge Drive Clio Michigan
UID:e.2606.878
SEQUENCE:3
DTSTAMP:20260421T085517Z
URL:https://members.flintandgeneseechamber.org/events/details/let-s-go-to-the-hop-at-clio-amphitheater-07-08-2014-878
END:VEVENT

END:VCALENDAR
