BEGIN:VCALENDAR
VERSION:2.0
PRODID:-//ChamberMaster//Event Calendar 2.0//EN
METHOD:PUBLISH
X-PUBLISHED-TTL:P3D
REFRESH-INTERVAL:P3D
CALSCALE:GREGORIAN
BEGIN:VEVENT
DTSTART:20130921T160000Z
DTEND:20130921T220000Z
X-MICROSOFT-CDO-ALLDAYEVENT:FALSE
SUMMARY:Linden ''Autumn Fall Fest''
DESCRIPTION:Visit downtown Linden\, by the Mill Pond\, for a day of family fun with a fishing contest\, kids zone with bounce houses\, music\, vendors\, a Taste in Linden and more. For a detailed schedule of activities visit www.Lindenmi.us.
X-ALT-DESC;FMTTYPE=text/html:Visit downtown Linden\, by the Mill Pond\, for a day of family fun with a fishing contest\, kids zone with bounce houses\, music\, vendors\, a Taste in Linden and more. For a detailed schedule of activities visit <a title="Linden Autumn Fall Fest" href="http://www.lindenmi.us/">www.Lindenmi.us</a>.
LOCATION:Downtown Linden by the Mill Pond Mill Street Linden
UID:e.2606.68
SEQUENCE:3
DTSTAMP:20260421T220053Z
URL:https://members.flintandgeneseechamber.org/events/details/linden-autumn-fall-fest-09-21-2013-68
END:VEVENT

END:VCALENDAR
