BEGIN:VCALENDAR
VERSION:2.0
PRODID:-//ChamberMaster//Event Calendar 2.0//EN
METHOD:PUBLISH
X-PUBLISHED-TTL:P3D
REFRESH-INTERVAL:P3D
CALSCALE:GREGORIAN
BEGIN:VEVENT
DTSTART;VALUE=DATE:20130527
DTEND;VALUE=DATE:20130528
TRANSP:TRANSPARENT
X-MICROSOFT-CDO-ALLDAYEVENT:TRUE
SUMMARY:Linden Community Picnic
DESCRIPTION:www.Lindenmi.us
X-ALT-DESC;FMTTYPE=text/html:<a href="http://www.lindenmi.us/">www.Lindenmi.us</a>
LOCATION:
UID:e.2606.66
SEQUENCE:3
DTSTAMP:20260422T041733Z
URL:https://members.flintandgeneseechamber.org/events/details/linden-community-picnic-05-27-2013-66
END:VEVENT

END:VCALENDAR
