BEGIN:VCALENDAR
VERSION:2.0
PRODID:-//ChamberMaster//Event Calendar 2.0//EN
METHOD:PUBLISH
X-PUBLISHED-TTL:P3D
REFRESH-INTERVAL:P3D
CALSCALE:GREGORIAN
BEGIN:VEVENT
DTSTART;VALUE=DATE:20131206
DTEND;VALUE=DATE:20131208
TRANSP:TRANSPARENT
X-MICROSOFT-CDO-ALLDAYEVENT:TRUE
SUMMARY:Linden ''Holiday Happenings''
DESCRIPTION:Celebrate the holiday spirit during this annual event in downtown Linden. For a detailed schedule of activities visit www.Lindenmi.us.
X-ALT-DESC;FMTTYPE=text/html:Celebrate the holiday spirit during this annual event in downtown Linden. For a detailed schedule of activities visit <a title="Linden Holiday Happenings" href="http://www.lindenmi.us/" target="_blank">www.Lindenmi.us.</a>
LOCATION:Downtown Linden by the Mill Pond Mill Street Linden
UID:e.2606.69
SEQUENCE:3
DTSTAMP:20260421T171428Z
URL:https://members.flintandgeneseechamber.org/events/details/linden-holiday-happenings-12-06-2013-69
END:VEVENT

END:VCALENDAR
