BEGIN:VCALENDAR
VERSION:2.0
PRODID:-//ChamberMaster//Event Calendar 2.0//EN
METHOD:PUBLISH
X-PUBLISHED-TTL:P3D
REFRESH-INTERVAL:P3D
CALSCALE:GREGORIAN
BEGIN:VEVENT
DTSTART;VALUE=DATE:20130620
DTEND;VALUE=DATE:20130624
TRANSP:TRANSPARENT
X-MICROSOFT-CDO-ALLDAYEVENT:TRUE
SUMMARY:Linden Mills Days Festival
DESCRIPTION:Visit downtown Linden for 3-days of family fun during their annual Linden Mills Days. For a detailed schedule of activities visit www.Lindenmi.us.
X-ALT-DESC;FMTTYPE=text/html:Visit downtown Linden for 3-days of family fun during their annual Linden Mills Days. For a detailed schedule of activities visit <a href="http://www.lindenmi.us/" target="_blank">www.Lindenmi.us</a>.\n\n&nbsp\;
LOCATION:Linden's Mill Pond Mill Pond Linden Michigan
UID:e.2606.67
SEQUENCE:3
DTSTAMP:20260422T023530Z
URL:https://members.flintandgeneseechamber.org/events/details/linden-mills-days-festival-06-20-2013-67
END:VEVENT

END:VCALENDAR
