BEGIN:VCALENDAR
VERSION:2.0
PRODID:-//ChamberMaster//Event Calendar 2.0//EN
METHOD:PUBLISH
X-PUBLISHED-TTL:P3D
REFRESH-INTERVAL:P3D
CALSCALE:GREGORIAN
BEGIN:VEVENT
DTSTART:20131004T230000Z
DTEND:20140101T043000Z
X-MICROSOFT-CDO-ALLDAYEVENT:FALSE
SUMMARY:''Live Harness Racing'' at Sports Creek Raceway
DESCRIPTION:Bring your spouse\, bring a friend or bring a date! There's great food and drinks plus LIVE action to bet on every Friday and Saturday evening. Catch all the action in Sports Creek's 480 seat terraced restaurant overlooking the track. Each restaurant table has a personal television to enjoy sporting events\, TV shows or additional horse racing. Sports Creek offers an outstanding buffet during live racing as well as a full menu - reservations are suggested. Guests can also enjoy a great view of the races from a seat in Sports Creek's fully enclosed and heated grandstand. Concession foods and drinks are available in the grandstand area. Sports Creek is also open daily\, from noon until midnight\, for simulcast wagering all year-round. For details visit www.sportscreek.com.
X-ALT-DESC;FMTTYPE=text/html:Bring your spouse\, bring a friend or bring a date! There's great food and drinks plus LIVE action to bet on every Friday and Saturday evening. Catch all the action in Sports Creek's 480 seat terraced restaurant overlooking the track. Each restaurant table has a personal television to enjoy sporting events\, TV shows or additional horse racing. Sports Creek offers an outstanding buffet during live racing as well as a full menu - reservations are suggested. Guests can also enjoy a great view of the races from a seat in Sports Creek's fully enclosed and heated grandstand. Concession foods and drinks are available in the grandstand area. Sports Creek is also open daily\, from noon until midnight\, for simulcast wagering all year-round. For details visit <a title="Sports Creek Raceway" href="http://www.sportscreek.com/" target="_blank">www.sportscreek.com</a>.
LOCATION:Sports Creek Raceway 4290 Morrish Road Swartz Creek Michigan
UID:e.2606.75
SEQUENCE:3
DTSTAMP:20260421T171644Z
URL:https://members.flintandgeneseechamber.org/events/details/live-harness-racing-at-sports-creek-raceway-10-04-2013-75
END:VEVENT

END:VCALENDAR
