BEGIN:VCALENDAR
VERSION:2.0
PRODID:-//ChamberMaster//Event Calendar 2.0//EN
METHOD:PUBLISH
X-PUBLISHED-TTL:P3D
REFRESH-INTERVAL:P3D
CALSCALE:GREGORIAN
BEGIN:VEVENT
DTSTART:20140626T173000Z
DTEND:20140626T183000Z
X-MICROSOFT-CDO-ALLDAYEVENT:FALSE
SUMMARY:Local Contract Opportunities
DESCRIPTION:Featuring Genesee County Purchasing Manager Cindy Carnes\n\nHear first hand how to do business with both Genesee County and City of Flint purchasing departments. Discussion will be focused on vendor registration\, what they look for in a responsive qualified bidder and what their contracting needs are currently.\n\nDate:  June 26\, 2014\n\nTime:  1:30 – 2:30 p.m.\n\nLocation:  Flint & Genesee Chamber of Commerce\, 519 S. Saginaw Street\, Flint\, MI  48502\n\nThere is no cost to attend\, but registration is required. Please contact Chelsea Schutz at: 810-600-1437 or ptac@flintandgenesee.org
X-ALT-DESC;FMTTYPE=text/html:Featuring Genesee County Purchasing Manager Cindy Carnes\n\nHear first hand how to do business with both Genesee County and City of Flint purchasing departments. Discussion will be focused on vendor registration\, what they look for in a responsive qualified bidder and what their contracting needs are currently.\n\nDate:  June 26\, 2014\n\nTime:  1:30 – 2:30 p.m.\n\nLocation:  Flint &amp\; Genesee Chamber of Commerce\, 519 S. Saginaw Street\, Flint\, MI  48502\n\nThere is no cost to attend\, but registration is required. Please contact Chelsea Schutz at: 810-600-1437 or <a href="mailto:ptac@flintandgenesee.org">ptac@flintandgenesee.org</a>
LOCATION:Flint & Genesee Chamber of Commerce 519 S. Saginaw St. Flint MI 48502
UID:e.2606.1020
SEQUENCE:3
DTSTAMP:20260421T101402Z
URL:https://members.flintandgeneseechamber.org/events/details/local-contract-opportunities-06-26-2014-1020
END:VEVENT

END:VCALENDAR
