BEGIN:VCALENDAR
VERSION:2.0
PRODID:-//ChamberMaster//Event Calendar 2.0//EN
METHOD:PUBLISH
X-PUBLISHED-TTL:P3D
REFRESH-INTERVAL:P3D
CALSCALE:GREGORIAN
BEGIN:VEVENT
DTSTART:20241221T200000Z
DTEND:20241221T213000Z
X-MICROSOFT-CDO-ALLDAYEVENT:FALSE
SUMMARY:Loree's Academy of Dance Holiday Concert
DESCRIPTION:Celebrate the Season with Loree's Academy of Dance!\n\n\n\nStep into the magic of the holidays at Loree's Academy of Dance Annual Holiday Concert! Join us for a joyful evening of dance and holiday favorites that will capture the spirit of the season! \n\n\n\nTickets are on sale at loreesacademyofdance.com
X-ALT-DESC;FMTTYPE=text/html:Celebrate the Season with Loree&#39\;s Academy of Dance!<br />\n<br />\nStep into the magic of the holidays at Loree&#39\;s Academy of Dance Annual Holiday Concert! Join us for a joyful evening of dance and holiday favorites that will capture the spirit of the season!&nbsp\;<br />\n<br />\nTickets are on sale at loreesacademyofdance.com&nbsp\;<br />\n&nbsp\;
LOCATION:Goodrich High School Theater 8029 S. Gale Rd\, Goodrich\, MI 48438
UID:e.2606.18818
SEQUENCE:3
DTSTAMP:20260422T131847Z
URL:https://members.flintandgeneseechamber.org/events/details/loree-s-academy-of-dance-holiday-concert-18818
END:VEVENT

END:VCALENDAR
