BEGIN:VCALENDAR
VERSION:2.0
PRODID:-//ChamberMaster//Event Calendar 2.0//EN
METHOD:PUBLISH
X-PUBLISHED-TTL:P3D
REFRESH-INTERVAL:P3D
CALSCALE:GREGORIAN
BEGIN:VEVENT
DTSTART:20130927T153000Z
DTEND:20130927T170000Z
X-MICROSOFT-CDO-ALLDAYEVENT:FALSE
SUMMARY:Lunch and Learn Series: Navigating the Affordable Care Act
DESCRIPTION:Lunch & Learn\n\nDate: Friday\, September 27\, 2013\n\nTime: 11:30 a.m. - 1:00 p.m.\n\n Topic: Navigating the Affordable Care Act"\n\n Target Audience: Anyone interested in how the changes in health care reform will affect the employer\, employees\, retirees and healthcare providers.\n\nExpected Outcome: An overview in layman's terms as to impact of  upcoming changes to health care. \n\n Cost: $10 (includes a boxed lunch)\n\n Location: Riverfront Center\, Michigan Center for Entrepreneurial Leadership of the School of Management\, University of Michigan-Flint\, Room 2317\n\n Parking: Riverfront Ramp or Parking Lot at Kearsley & Saginaw Streets\n\nQuestions about the Lunch & Learn Series?\n\nContact Linda Ryals-Massey at LRyalsMassey@comcast.net or 810.938.4608
X-ALT-DESC;FMTTYPE=text/html: <strong>Lunch &amp\; Learn</strong>\n\n<strong>Date:</strong> Friday\, September 27\, 2013\n\n<strong>Time</strong>: 11:30 a.m. - 1:00 p.m.\n\n <strong>Topic: Navigating the Affordable Care Act"</strong>\n\n <strong>Target Audience:</strong> Anyone interested in how the changes in health care reform will affect the employer\, employees\, retirees and healthcare providers.\n\nExpected Outcome: An overview in layman's terms as to impact of  upcoming changes to health care. \n\n <strong>Cost:</strong> $10 (includes a boxed lunch)\n\n <strong>Location:</strong> Riverfront Center\, Michigan Center for Entrepreneurial Leadership of the School of Management\, University of Michigan-Flint\, <span style="text-decoration: underline\;">Room 2317</span>\n\n <strong>Parking:</strong> Riverfront Ramp or Parking Lot at Kearsley &amp\; Saginaw Streets\n\n<strong>Questions</strong> about the Lunch &amp\; Learn Series?\n\nContact Linda Ryals-Massey at <a href="mailto:LRyalsMassey@comcast.net">LRyalsMassey@comcast.net</a> or 810.938.4608\n\n&nbsp\;
LOCATION:Riverfront Student Center University of Michigan-Flint Business School\, flint\, mi 1 Riverfront Center West Flint MI 48502
UID:e.2606.448
SEQUENCE:3
DTSTAMP:20260421T220138Z
URL:https://members.flintandgeneseechamber.org/events/details/lunch-and-learn-series-navigating-the-affordable-care-act-09-27-2013-448
END:VEVENT

END:VCALENDAR
