BEGIN:VCALENDAR
VERSION:2.0
PRODID:-//ChamberMaster//Event Calendar 2.0//EN
METHOD:PUBLISH
X-PUBLISHED-TTL:P3D
REFRESH-INTERVAL:P3D
CALSCALE:GREGORIAN
BEGIN:VEVENT
DTSTART:20130213T170000Z
DTEND:20130213T183000Z
X-MICROSOFT-CDO-ALLDAYEVENT:FALSE
SUMMARY:Lunch is On Us
DESCRIPTION:Sponsored by Sam’s Club\n\nCost: Free
X-ALT-DESC;FMTTYPE=text/html:Sponsored by Sam’s Club\n\nCost: Free
LOCATION:Sam's Club 4373 Corunna Rd Flint Michigan 48532
UID:e.2606.510
SEQUENCE:3
DTSTAMP:20260422T090615Z
URL:https://members.flintandgeneseechamber.org/events/details/lunch-is-on-us-02-13-2013-510
END:VEVENT

END:VCALENDAR
