BEGIN:VCALENDAR
VERSION:2.0
PRODID:-//ChamberMaster//Event Calendar 2.0//EN
METHOD:PUBLISH
X-PUBLISHED-TTL:P3D
REFRESH-INTERVAL:P3D
CALSCALE:GREGORIAN
BEGIN:VEVENT
DTSTART:20130213T170000Z
DTEND:20130213T183000Z
X-MICROSOFT-CDO-ALLDAYEVENT:FALSE
SUMMARY:Lunch Is On Us
DESCRIPTION:Get networking and get a free lunch at the Genesee Regional Chamber of Commerce's Lunch Is On Us series.\nThis is a monthly luncheon you've enjoyed in the past\, now with more networking opportunities to help grow your business. Join us for the "lightning Round"...fast paced and always fun!\n\nRSVP is required. To register please emial Brian Sullivan at bsullivan@thegrcc.org or call the RSVP line at (810)600-1422.
X-ALT-DESC;FMTTYPE=text/html:Get networking and get a free lunch at the Genesee Regional Chamber of Commerce's Lunch Is On Us series.\nThis is a monthly luncheon you've enjoyed in the past\, now with more networking opportunities to help grow your business. Join us for the "lightning Round"...fast paced and always fun!\n\nRSVP is required. To register please emial Brian Sullivan at bsullivan@thegrcc.org or call the RSVP line at (810)600-1422.
LOCATION:Genesee Regional Chamber of Commerce 4373 Corunna Rd Flint MI 48532
UID:e.2606.8
SEQUENCE:3
DTSTAMP:20260422T090555Z
URL:https://members.flintandgeneseechamber.org/events/details/lunch-is-on-us-02-13-2013-8
END:VEVENT

END:VCALENDAR
