BEGIN:VCALENDAR
VERSION:2.0
PRODID:-//ChamberMaster//Event Calendar 2.0//EN
METHOD:PUBLISH
X-PUBLISHED-TTL:P3D
REFRESH-INTERVAL:P3D
CALSCALE:GREGORIAN
BEGIN:VEVENT
DTSTART:20131003T200000Z
DTEND:20131004T000000Z
X-MICROSOFT-CDO-ALLDAYEVENT:FALSE
SUMMARY:Majestic Link Non-Profit Fundraising Event
DESCRIPTION:What:  "Senior Awareness" Fundraising Event\n\nWhen: Thursday 4-8 pm\n\nWhere: Bubba O'Malley\n\n1076 S Belsay Rd\n\nBurton\, MI 48509\n\nCost: $8 for adults / $3 for kids (under 12)\n\n \n\nBonus!!!   **Accepting Can-Food's $1 off each can (limit 3 per person)\n\n**Children under 12\, in costume get in Free!!!
X-ALT-DESC;FMTTYPE=text/html:What:  "Senior Awareness" Fundraising Event\n\nWhen: Thursday 4-8 pm\n\nWhere: Bubba O'Malley\n\n1076 S Belsay Rd\n\nBurton\, MI 48509\n\nCost: $8 for adults / $3 for kids (under 12)\n\n&nbsp\;\n\nBonus!!!   **Accepting Can-Food's $1 off each can (limit 3 per person)\n\n**Children under 12\, in costume get in Free!!!\n\n&nbsp\;\n\n&nbsp\;\n\n&nbsp\;
LOCATION:Bubba O'Malley's 1076 S Belsay Rd Burton Michigan 48509
UID:e.2606.552
SEQUENCE:3
DTSTAMP:20260421T202928Z
URL:https://members.flintandgeneseechamber.org/events/details/majestic-link-non-profit-fundraising-event-10-03-2013-552
END:VEVENT

END:VCALENDAR
