BEGIN:VCALENDAR
VERSION:2.0
PRODID:-//ChamberMaster//Event Calendar 2.0//EN
METHOD:PUBLISH
X-PUBLISHED-TTL:P3D
REFRESH-INTERVAL:P3D
CALSCALE:GREGORIAN
BEGIN:VEVENT
DTSTART:20140312T160000Z
DTEND:20140312T053000Z
X-MICROSOFT-CDO-ALLDAYEVENT:FALSE
SUMMARY:March 2014 Lunch Is On Us Hosted by American Red Cross and Plaza Corp
DESCRIPTION:March 2014 Lunch Is On Us will be hosted by the American Red Cross and Plaza Corp.\n\nThe Location will be at the American Red Cross on S. Grand Traverse.  It will be a fantastic networking opportunity!\n\nRemember bring plenty of Business Cards!\n\nAmerican Red Cross\n\n1401 S. Grand Traverse\n\nFlint\, MI 48503
X-ALT-DESC;FMTTYPE=text/html:March 2014 Lunch Is On Us will be hosted by the American Red Cross and Plaza Corp.\n\nThe Location will be at the American Red Cross on S. Grand Traverse.  It will be a fantastic networking opportunity!\n\nRemember bring plenty of Business Cards!\n\nAmerican Red Cross\n\n1401 S. Grand Traverse\n\nFlint\, MI 48503
LOCATION:
UID:e.2606.828
SEQUENCE:3
DTSTAMP:20260421T131539Z
URL:https://members.flintandgeneseechamber.org/events/details/march-2014-lunch-is-on-us-hosted-by-american-red-cross-and-plaza-corp-03-12-2014-828
END:VEVENT

END:VCALENDAR
