BEGIN:VCALENDAR
VERSION:2.0
PRODID:-//ChamberMaster//Event Calendar 2.0//EN
METHOD:PUBLISH
X-PUBLISHED-TTL:P3D
REFRESH-INTERVAL:P3D
CALSCALE:GREGORIAN
BEGIN:VEVENT
DTSTART:20131028T213000Z
DTEND:20131029T010000Z
X-MICROSOFT-CDO-ALLDAYEVENT:FALSE
SUMMARY:March of Dimes - ''Signature Chefs Auction'' presented by Hurley Children Hospital
DESCRIPTION:Date & Time: Monday\, October 28\, 2013 5:30 - 9:00 PM\nTickets: Tickets are $60 per person ($40 is tax deductible\nas a charitable donation)\nVIP tables of 10 are $750\nCorporate sponsorships are also available\n\nApproximately 250 guests are expected\, representing leaders from political\, business\, health\, sports\, and media arenas in Genesee\, Saginaw\, Bay\, and surrounding counties.\nThe March of Dimes Signature Chefs Auction showcases the talents of the area’s amazing chefs. During the tasting reception\, guests can visit with the chefs\, sample their delicious appetizers\, and bid on silent auction and raffle packages. Our professional auctioneer opens the exciting live auction with fabulous dining\, travel\, entertainment\, and sporting packages. The Signature Chefs Auction Ambassador Family provides the emotional highlight of the evening with a personal story of the March of Dimes mission\, and the opportunity make a 100% tax-deductible donation to Fund the Mission.\nPast participating establishments:\n\nApplewood Café\nBlackstone’s Pub & Grill\nBrickstreet Bar & Grill\nCaptain’s Club at Woodfield\nCranberries Café\nDa Edoardo North\nFamous Dave’s\nFandangles’\nFlint Golf Club\nThe French Laundry\nGenesys Conference & Banquet\nCenter\nHoffman’s Deco Deli\nIchiban Japanese Bistro &\nSteakhouse\nJ. Porters\nLuca’s Chophouse\nRedwood Catering\nRedwood Steakhouse &\nBrewery\nSpring Meadows Country Club\nThe Boy Gourmet\n501 Bar & Grill\n\n \n\nFor more registration and contact info: Darlene Chivinsky phone 810-344-6324\,  email DChivinsky@marchofdimes.com
X-ALT-DESC;FMTTYPE=text/html:Date &amp\; Time: Monday\, October 28\, 2013 5:30 - 9:00 PM\nTickets: Tickets are $60 per person ($40 is tax deductible\nas a charitable donation)\nVIP tables of 10 are $750\nCorporate sponsorships are also available\n\nApproximately 250 guests are expected\, representing leaders from political\, business\, health\, sports\, and media arenas in Genesee\, Saginaw\, Bay\, and surrounding counties.\nThe March of Dimes Signature Chefs Auction showcases the talents of the area’s amazing chefs. During the tasting reception\, guests can visit with the chefs\, sample their delicious appetizers\, and bid on silent auction and raffle packages. Our professional auctioneer opens the exciting live auction with fabulous dining\, travel\, entertainment\, and sporting packages. The Signature Chefs Auction Ambassador Family provides the emotional highlight of the evening with a personal story of the March of Dimes mission\, and the opportunity make a 100% tax-deductible donation to Fund the Mission.\nPast participating establishments:\n\nApplewood Café\nBlackstone’s Pub &amp\; Grill\nBrickstreet Bar &amp\; Grill\nCaptain’s Club at Woodfield\nCranberries Café\nDa Edoardo North\nFamous Dave’s\nFandangles’\nFlint Golf Club\nThe French Laundry\nGenesys Conference &amp\; Banquet\nCenter\nHoffman’s Deco Deli\nIchiban Japanese Bistro &amp\;\nSteakhouse\nJ. Porters\nLuca’s Chophouse\nRedwood Catering\nRedwood Steakhouse &amp\;\nBrewery\nSpring Meadows Country Club\nThe Boy Gourmet\n501 Bar &amp\; Grill\n\n&nbsp\;\n\nFor more registration and contact info: Darlene Chivinsky phone 810-344-6324\,  email DChivinsky@marchofdimes.com
LOCATION:Holiday Inn Gateway Centre 5353 Gateway Center Flint MI 48507
UID:e.2606.575
SEQUENCE:3
DTSTAMP:20260421T203356Z
URL:https://members.flintandgeneseechamber.org/events/details/march-of-dimes-signature-chefs-auction-presented-by-hurley-children-hospital-10-28-2013-575
END:VEVENT

END:VCALENDAR
