BEGIN:VCALENDAR
VERSION:2.0
PRODID:-//ChamberMaster//Event Calendar 2.0//EN
METHOD:PUBLISH
X-PUBLISHED-TTL:P3D
REFRESH-INTERVAL:P3D
CALSCALE:GREGORIAN
BEGIN:VEVENT
DTSTART:20130812T110000Z
DTEND:20130813T000000Z
X-MICROSOFT-CDO-ALLDAYEVENT:FALSE
SUMMARY:McLaren Foundation's 22nd Annual Golf Classic
DESCRIPTION:Join us for a day of golf and fun! Don't miss this opportunity to support the McLaren Hospitality House and the Nights of Hope fund.\n\nThe 22nd McLaren Golf Classic will be held on Monday\, August 12\, 2013 at two of the Flint areas prestigious golf courses\, Warwick Hills Golf and Country Club and the Flint Golf Club.\n\nFor more information on our Sponsorship and Individual Golf Packages contact Cathy Stacey at (810) 342-2443.
X-ALT-DESC;FMTTYPE=text/html:Join us for a day of golf and fun! Don't miss this opportunity to support the McLaren Hospitality House and the Nights of Hope fund.\n\nThe 22nd McLaren Golf Classic will be held on Monday\, August 12\, 2013 at two of the Flint areas prestigious golf courses\, Warwick Hills Golf and Country Club and the Flint Golf Club.\n\nFor more information on our Sponsorship and Individual Golf Packages contact Cathy Stacey at (810) 342-2443.
LOCATION:Warwick Hills Golf and Country Club and the Flint Golf Club G-9057 S Saginaw Rd. Grand Blanc MI 48439
UID:e.2606.129
SEQUENCE:3
DTSTAMP:20260421T233921Z
URL:https://members.flintandgeneseechamber.org/events/details/mclaren-foundation-s-22nd-annual-golf-classic-08-12-2013-129
END:VEVENT

END:VCALENDAR
