BEGIN:VCALENDAR
VERSION:2.0
PRODID:-//ChamberMaster//Event Calendar 2.0//EN
METHOD:PUBLISH
X-PUBLISHED-TTL:P3D
REFRESH-INTERVAL:P3D
CALSCALE:GREGORIAN
BEGIN:VEVENT
DTSTART:20130427T230000Z
DTEND:20130428T020000Z
X-MICROSOFT-CDO-ALLDAYEVENT:FALSE
SUMMARY:McLaren Foundation's Cruise for a Cause
DESCRIPTION:Get Your Passport to Paradise and Cruise for a Cause.  Please join the McLaren Foundation for this special event hosted by Art Van Furniture to support the McLaren Hospitality House.\n\nThe Cruise for a Cause is no ordinary fundraiser.  This special evening will be full of fabulous food\, exceptional entertainment\, cocktails and fun! The Master of Ceremony for the evening is Terry Crews\, Hollywood Actor and former NFL player.  Live music by the Simone Vitale Band. For tickets or more information contact Cathy Stacey at (810) 342-2443 or visit www.mclaren.org/mf/CruiseforaCausemf.aspx.
X-ALT-DESC;FMTTYPE=text/html:Get Your Passport to Paradise and Cruise for a Cause.  Please join the McLaren Foundation for this special event hosted by Art Van Furniture to support the McLaren Hospitality House.\n\nThe Cruise for a Cause is no ordinary fundraiser.  This special evening will be full of fabulous food\, exceptional entertainment\, cocktails and fun! The Master of Ceremony for the evening is Terry Crews\, Hollywood Actor and former NFL player.  Live music by the Simone Vitale Band. For tickets or more information contact Cathy Stacey at (810) 342-2443 or visit <a href="http://www.mclaren.org/mf/CruiseforaCausemf.aspx" target="_blank">www.mclaren.org/mf/CruiseforaCausemf.aspx</a>.
LOCATION:Art Van Furniture 4577 Miller Road Flint MI 48507
UID:e.2606.136
SEQUENCE:3
DTSTAMP:20260422T055756Z
URL:https://members.flintandgeneseechamber.org/events/details/mclaren-foundation-s-cruise-for-a-cause-04-27-2013-136
END:VEVENT

END:VCALENDAR
