BEGIN:VCALENDAR
VERSION:2.0
PRODID:-//ChamberMaster//Event Calendar 2.0//EN
METHOD:PUBLISH
X-PUBLISHED-TTL:P3D
REFRESH-INTERVAL:P3D
CALSCALE:GREGORIAN
BEGIN:VEVENT
DTSTART:20140122T140000Z
DTEND:20140122T160000Z
X-MICROSOFT-CDO-ALLDAYEVENT:FALSE
SUMMARY:Meet the Buyer Prep Workshop
DESCRIPTION:Planning on attending the Meet the Buyer event on January 30? You will want to take advantage of this free pre-event workshop. The workshop will focus on what to ask\, what to bring and how you deliver your message most effectively to the buyers.\n\nWe will spend the first hour discussing key points and tools to have available when meeting with the buyers\, and then the last hour PTAC staff will be available for individualized assistance with creating and/or modifying your company's capability statement.\n\nTo register for the workshop\, please contact: Chelsea Schutz at (810) 600-1437 or ptac@flintandgenesee.org.
X-ALT-DESC;FMTTYPE=text/html:<strong>Planning on attending the <a href="https://www.flintandgenesee.org/events/meet-buyer/">Meet the Buyer</a> event on January 30?</strong> You will want to take advantage of this <strong>free</strong> pre-event workshop. The workshop will focus on what to ask\, what to bring and how you deliver your message most effectively to the buyers.\n\nWe will spend the first hour discussing key points and tools to have available when meeting with the buyers\, and then the last hour PTAC staff will be available for individualized assistance with creating and/or modifying your company's capability statement.\n\n<strong>To register for the workshop\, please contact:</strong> Chelsea Schutz at (810) 600-1437 or <a href="mailto:ptac@flintandgenesee.org" target="_blank" shape="rect">ptac@flintandgenesee.org</a>.
LOCATION:Flint & Genesee Chamber of Commerce 519 S. Saginaw St. Flint MI 48502
UID:e.2606.637
SEQUENCE:3
DTSTAMP:20260421T155900Z
URL:https://members.flintandgeneseechamber.org/events/details/meet-the-buyer-prep-workshop-01-22-2014-637
END:VEVENT

END:VCALENDAR
