BEGIN:VCALENDAR
VERSION:2.0
PRODID:-//ChamberMaster//Event Calendar 2.0//EN
METHOD:PUBLISH
X-PUBLISHED-TTL:P3D
REFRESH-INTERVAL:P3D
CALSCALE:GREGORIAN
BEGIN:VEVENT
DTSTART:20140219T220000Z
DTEND:20140220T000000Z
X-MICROSOFT-CDO-ALLDAYEVENT:FALSE
SUMMARY:Meet the Executives
DESCRIPTION:The Flint & Genesee Chamber of Commerce's Young Professionals are pleased to welcome John B. Henry\, Director of the Flint Institute of Arts\; Dr. Bobby Mukkamala\; and David Smith\, VP\, Skaff Carpet One Floor & Home\, to the seventh panel of the “MEET THE EXECUTIVES” series.\n\nThe panelists will provide insight in to how they became executives and key decision makers as they moved along their career path. The interaction with the panelists will include time for the guests to ask questions.\n\nRegistration begins at 5:00 p.m.\n\nPanel discussion begins at 5:30 p.m.\n\nCost: Free\, courtesy of Young Professionals and the Flint & Genesee Chamber of Commerce\; registration required.\n\nThe Young Professionals are a membership-based\, volunteer committee of the Flint & Genesee Chamber of Commerce. It's geared toward young professionals living and working in Flint & Genesee County who want to expand their social networks\, grow professionally\, and make a difference in our region. For more information\, contact the Young Professionals at (810) 618-6769 or visit flintandgenesee.org.
X-ALT-DESC;FMTTYPE=text/html:The Flint &amp\; Genesee Chamber of Commerce's Young Professionals are pleased to welcome John B. Henry\, Director of the Flint Institute of Arts\; Dr. Bobby Mukkamala\; and David Smith\, VP\, Skaff Carpet One Floor &amp\; Home\, to the seventh panel of the “MEET THE EXECUTIVES” series.\n\nThe panelists will provide insight in to how they became executives and key decision makers as they moved along their career path. The interaction with the panelists will include time for the guests to ask questions.\n\nRegistration begins at 5:00 p.m.\n\nPanel discussion begins at 5:30 p.m.\n\nCost: Free\, courtesy of Young Professionals and the Flint &amp\; Genesee Chamber of Commerce\; registration required.\n\nThe Young Professionals are a membership-based\, volunteer committee of the Flint &amp\; Genesee Chamber of Commerce. It's geared toward young professionals living and working in Flint &amp\; Genesee County who want to expand their social networks\, grow professionally\, and make a difference in our region. For more information\, contact the Young Professionals at (810) 618-6769 or visit <a href="http://www.flintandgenesee.org/connect/committees/genesee-regional-young-professionals/">flintandgenesee.org</a>.
LOCATION:Flint Institute of Arts 1120 E. Kearsley Street Flint MI 48502
UID:e.2606.797
SEQUENCE:3
DTSTAMP:20260421T142414Z
URL:https://members.flintandgeneseechamber.org/events/details/meet-the-executives-02-19-2014-797
END:VEVENT

END:VCALENDAR
