BEGIN:VCALENDAR
VERSION:2.0
PRODID:-//ChamberMaster//Event Calendar 2.0//EN
METHOD:PUBLISH
X-PUBLISHED-TTL:P3D
REFRESH-INTERVAL:P3D
CALSCALE:GREGORIAN
BEGIN:VEVENT
DTSTART:20130527T040000Z
DTEND:20130527T040000Z
X-MICROSOFT-CDO-ALLDAYEVENT:FALSE
SUMMARY:Memorial Day Parade - Burton
DESCRIPTION:http://burtonmi.gov
X-ALT-DESC;FMTTYPE=text/html:http://burtonmi.gov
LOCATION:
UID:e.2606.7
SEQUENCE:3
DTSTAMP:20260422T041805Z
URL:https://members.flintandgeneseechamber.org/events/details/memorial-day-parade-burton-05-27-2013-7
END:VEVENT

END:VCALENDAR
