BEGIN:VCALENDAR
VERSION:2.0
PRODID:-//ChamberMaster//Event Calendar 2.0//EN
METHOD:PUBLISH
X-PUBLISHED-TTL:P3D
REFRESH-INTERVAL:P3D
CALSCALE:GREGORIAN
BEGIN:VEVENT
DTSTART:20260619T220000Z
DTEND:20260620T010000Z
X-MICROSOFT-CDO-ALLDAYEVENT:FALSE
SUMMARY:Michigan on the Mark: An Evening with Maker’s Mark
DESCRIPTION:Join us for an evening of Maker's Mark bourbon-inspired fun and flavor at Bavarian Inn Restaurant!\n\n\n\n\n\nExperience an unforgettable culinary journey at Bavarian Inn Restaurant with a meticulously curated 4-course dinner\, featuring the finest Michigan ingredients and expertly paired with Maker's Mark bourbons. Each dish is a bold celebration of flavor\, crafted to highlight the rich character of Maker's Mark while showcasing the best of Michigan's bounty.\n\nBegin by crafting your perfect Old Fashioned at our interactive creation station\, then make your mark at the Maker's Mark dipping table\, where you'll dip your glass into vibrant red wax for a keepsake cocktail experience. Sip\, savor\, and mingle while enjoying a celebration of Maker's Mark craftsmanship in an immersive\, hands-on event that delights the eyes\, the palate\, and the senses.\n\nReservations are required. Cost is $125 per person and includes bourbons\, meal\, souvenirs\, tax and gratuity.\n\nMENU\n\n1st Course: Cherry-Kissed Pork Bites\n\nSucculent glazed pork bites lacquered to perfection\, paired with bright pickled cherries and topped with crispy shallots for a sweet\, tangy\, and irresistibly crunchy finish.\n\nServed with Cherry Mint Smash Cocktail featuring Maker's Mark\n\n2nd Course: Lakeside Gold Walleye\n\nPerfectly pan-seared Great Lakes walleye with a delicate\, flaky finish\, nestled in a silky sweet corn velout  that brings a touch of summer sweetness to every bite.\n\nServed with Blackberry Bourbon Sour Cocktail featuring Maker's Mark 46\n\n3rd Course: Mitten State Bourbon-Glazed Beef Cheeks\n\nTender Michigan craft beef cheeks\, slow-braised to melt-in-your-mouth perfection and glazed with a rich maple-bourbon reduction\, served alongside fresh Michigan asparagus bundles for a true taste of the season.\n\nServed with Maple Old Fashioned featuring Maker's Mark Cask Strength\n\n4th Course: Bourbon Bliss Pecan Pie\n\nA decadent twist on a classic\, this rich chocolate pecan pie is infused with smooth bourbon\, offering a perfect balance of nutty crunch\, velvety chocolate\, and a hint of warm\, spirited sweetness.\n\nServed with Espresso Martini featuring Maker's Mark Bavarian Inn Private Select Triple B\n\nThe event will continue in the Fischer Platz with entertainment and the following:\n\n1 oz pour of Maker's Mark Bavarian Inn Private Select Matriarch 100\n\nA Porchside Spritz Cocktail featuring Maker's Mark
X-ALT-DESC;FMTTYPE=text/html:<div style="background:rgb(255\, 255\, 255)\; border:0px\; padding:0px">\n<div style="background:transparent\; border:0px\; padding:0px">\n<p>Join us for an evening of Maker&rsquo\;s Mark bourbon-inspired fun and flavor at Bavarian Inn Restaurant!</p>\n</div>\n</div>\n\n<div style="background:rgb(255\, 255\, 255)\; border:0px\; padding:0px">\n<div style="background:transparent\; border:0px\; padding:0px">\n<p>Experience an unforgettable culinary journey at Bavarian Inn Restaurant with a meticulously curated 4-course dinner\, featuring the finest Michigan ingredients and expertly paired with Maker&rsquo\;s Mark bourbons. Each dish is a bold celebration of flavor\, crafted to highlight the rich character of Maker&rsquo\;s Mark while showcasing the best of Michigan&rsquo\;s bounty.</p>\n\n<p>Begin by crafting your perfect Old Fashioned at our interactive creation station\, then make your mark at the Maker&rsquo\;s Mark dipping table\, where you&rsquo\;ll dip your glass into vibrant red wax for a keepsake cocktail experience. Sip\, savor\, and mingle while enjoying a celebration of Maker&rsquo\;s Mark craftsmanship in an immersive\, hands-on event that delights the eyes\, the palate\, and the senses.</p>\n\n<p>Reservations are required. Cost is $125 per person and includes bourbons\, meal\, souvenirs\, tax and gratuity.</p>\n\n<p><strong>MENU</strong></p>\n\n<p><strong>1st Course:&nbsp\;</strong><strong>Cherry-Kissed Pork Bites</strong></p>\n\n<p><em>Succulent glazed pork bites lacquered to perfection\, paired with bright pickled cherries and topped with crispy shallots for a sweet\, tangy\, and irresistibly crunchy finish.</em></p>\n\n<p>Served with Cherry Mint Smash Cocktail featuring Maker&rsquo\;s Mark</p>\n\n<p><strong>2</strong><strong>nd</strong><strong>&nbsp\;Course:&nbsp\;</strong><strong>Lakeside Gold Walleye</strong></p>\n\n<p><em>Perfectly pan-seared Great Lakes walleye with a delicate\, flaky finish\, nestled in a silky sweet corn velout&eacute\; that brings a touch of summer sweetness to every bite.</em></p>\n\n<p>Served with Blackberry Bourbon Sour Cocktail featuring Maker&rsquo\;s Mark 46</p>\n\n<p><strong>3</strong><strong>rd</strong><strong>&nbsp\;Course:&nbsp\;</strong><strong>Mitten State Bourbon-Glazed Beef Cheeks</strong></p>\n\n<p><em>Tender Michigan craft beef cheeks\, slow-braised to melt-in-your-mouth perfection and glazed with a rich maple-bourbon reduction\, served alongside fresh Michigan asparagus bundles for a true taste of the season.</em></p>\n\n<p>Served with Maple Old Fashioned featuring Maker&rsquo\;s Mark Cask Strength</p>\n\n<p><strong>4</strong><strong>th</strong><strong>&nbsp\;Course:&nbsp\;</strong><strong>Bourbon Bliss Pecan Pie</strong></p>\n\n<p><em>A decadent twist on a classic\, this rich chocolate pecan pie is infused with smooth bourbon\, offering a perfect balance of nutty crunch\, velvety chocolate\, and a hint of warm\, spirited sweetness.</em></p>\n\n<p>Served with Espresso Martini featuring Maker&rsquo\;s Mark Bavarian Inn Private Select Triple B</p>\n\n<p><strong>The event will continue in the Fischer Platz with entertainment and the following:</strong></p>\n\n<p>1 oz pour of Maker&rsquo\;s Mark Bavarian Inn Private Select Matriarch 100</p>\n\n<p>A Porchside Spritz Cocktail featuring Maker&rsquo\;s Mark</p>\n</div>\n</div>\n
LOCATION:Frankenmuth Bavarian Inn Restaurant
UID:e.2606.20311
SEQUENCE:3
DTSTAMP:20260421T092452Z
URL:https://members.flintandgeneseechamber.org/events/details/michigan-on-the-mark-an-evening-with-maker-s-mark-20311
END:VEVENT

END:VCALENDAR
