BEGIN:VCALENDAR
VERSION:2.0
PRODID:-//ChamberMaster//Event Calendar 2.0//EN
METHOD:PUBLISH
X-PUBLISHED-TTL:P3D
REFRESH-INTERVAL:P3D
CALSCALE:GREGORIAN
BEGIN:VEVENT
DTSTART:20130927T140000Z
DTEND:20130927T230000Z
X-MICROSOFT-CDO-ALLDAYEVENT:FALSE
SUMMARY:Michigan Renaissance Festival ''Festival Friday''
DESCRIPTION:The Michigan Renaissance Festival celebrates their 30th annual "Festival Friday." The Festival is committed to making this day a valuable educational experience and an enjoyable time for learning! Students of all ages have a chance to do more than study history in a book\; Festival Friday gives them a chance to live it! This day is also for those that love to shop. Grab your friends and enjoy a day of shopping and wine. Shopping tickets include festival admission\, glass of wine and a coupon book with amazing discounts from select Festival Artisans. Also\, be sure to check out the Festival's full-contact armored jousting tournaments\, try a Festival turkey drumstick and browse the Festival's Crafter Marketplace offering over 50 unique shops of candles\, toys\, face and body art\, jewelry\, apparel and more. For a detailed schedule of daily activities and upcoming themed weekends visit www.michrenfest.com. Always free parking. Open rain or shine.
X-ALT-DESC;FMTTYPE=text/html:The Michigan Renaissance Festival celebrates their 30th annual "Festival Friday." The Festival is committed to making this day a valuable educational experience and an enjoyable time for learning! Students of all ages have a chance to do more than study history in a book\; Festival Friday gives them a chance to live it! This day is also for those that love to shop. Grab your friends and enjoy a day of shopping and wine. Shopping tickets include festival admission\, glass of wine and a coupon book with amazing discounts from select Festival Artisans. Also\, be sure to check out the Festival's full-contact armored jousting tournaments\, try a Festival turkey drumstick and browse the Festival's Crafter Marketplace offering over 50 unique shops of candles\, toys\, face and body art\, jewelry\, apparel and more. For a detailed schedule of daily activities and upcoming themed weekends visit <a title="Michigan Renaissance Festival " href="http://www.michrenfest.com/index.html" target="_blank">www.michrenfest.com</a>. Always free parking. Open rain or shine.\n\n&nbsp\;\n\n&nbsp\;\n\n&nbsp\;
LOCATION:Michigan Renaissance Festival 12600 Dixie Highway Holly Michigan
UID:e.2606.441
SEQUENCE:3
DTSTAMP:20260421T220626Z
URL:https://members.flintandgeneseechamber.org/events/details/michigan-renaissance-festival-festival-friday-09-27-2013-441
END:VEVENT

END:VCALENDAR
