BEGIN:VCALENDAR
VERSION:2.0
PRODID:-//ChamberMaster//Event Calendar 2.0//EN
METHOD:PUBLISH
X-PUBLISHED-TTL:P3D
REFRESH-INTERVAL:P3D
CALSCALE:GREGORIAN
BEGIN:VEVENT
DTSTART:20130921T140000Z
DTEND:20130922T230000Z
X-MICROSOFT-CDO-ALLDAYEVENT:FALSE
SUMMARY:Michigan Renaissance Festival ''Harvest Huzzah'' Weekend
DESCRIPTION:The Michigan Renaissance Festival celebrates their annual "Harvest Huzzah" weekend featuring a BBQ Competition\, Longbow Competition\, a Harvest Market\, Wine Tasting\, Grape Stomp and a Pickle Pie Eating Contest. Also\, be sure to check out the Festival's full-contact armored jousting tournaments\, try a Festival turkey drumstick and browse the Festival's Crafter Marketplace offering over 50 unique shops of candles\, toys\, face and body art\, jewelry\, apparel and more. For a detailed schedule of daily activities and upcoming themed weekends visit www.michrenfest.com. Always free parking. Open rain or shine.
X-ALT-DESC;FMTTYPE=text/html:The Michigan Renaissance Festival celebrates their annual "Harvest Huzzah" weekend featuring a BBQ Competition\, Longbow Competition\, a Harvest Market\, Wine Tasting\, Grape Stomp and a Pickle Pie Eating Contest. Also\, be sure to check out the Festival's full-contact armored jousting tournaments\, try a Festival turkey drumstick and browse the Festival's Crafter Marketplace offering over 50 unique shops of candles\, toys\, face and body art\, jewelry\, apparel and more. For a detailed schedule of daily activities and upcoming themed weekends visit <a title="Michigan Renaissance Festival " href="http://www.michrenfest.com/index.html" target="_blank">www.michrenfest.com</a>. Always free parking. Open rain or shine.
LOCATION:Michigan Renaissance Festival 12600 Dixie Highway Holly Michigan
UID:e.2606.440
SEQUENCE:3
DTSTAMP:20260421T220427Z
URL:https://members.flintandgeneseechamber.org/events/details/michigan-renaissance-festival-harvest-huzzah-weekend-09-21-2013-440
END:VEVENT

END:VCALENDAR
