BEGIN:VCALENDAR
VERSION:2.0
PRODID:-//ChamberMaster//Event Calendar 2.0//EN
METHOD:PUBLISH
X-PUBLISHED-TTL:P3D
REFRESH-INTERVAL:P3D
CALSCALE:GREGORIAN
BEGIN:VEVENT
DTSTART:20130817T140000Z
DTEND:20130818T230000Z
X-MICROSOFT-CDO-ALLDAYEVENT:FALSE
SUMMARY:Michigan Renaissance Festival ''Royal Pet & Ale Fest''
DESCRIPTION:The Michigan Renaissance Festival celebrates their opening weekend with a "Royal Pet & Ale Fest" featuring Disc Dogs\, Animal Rescues\, Pet Costume Contest\, a Pet Talent Contest\, a Pet Groomers Station and Pet Supply Vendors along with a Home Brew Competition\, Micro Beer Tasting\, Press-A-Wench and a Hot Wing Eating Contest. Also\, be sure to check out the Festival's full-contact armored jousting tournaments\, try a Festival turkey drumstick and browse the Festival's Crafter Marketplace offering over 50 unique shops of candles\, toys\, face and body art\, jewelry\, apparel and more. For a detailed schedule of daily activities and upcoming themed weekends visit www.michrenfest.com. Always free parking. Open rain or shine.
X-ALT-DESC;FMTTYPE=text/html:The Michigan Renaissance Festival celebrates their opening weekend with a "Royal Pet &amp\; Ale Fest" featuring Disc Dogs\, Animal Rescues\, Pet Costume Contest\, a Pet Talent Contest\, a Pet Groomers Station and Pet Supply Vendors along with a Home Brew Competition\, Micro Beer Tasting\, Press-A-Wench and a Hot Wing Eating Contest. Also\, be sure to check out the Festival's full-contact armored jousting tournaments\, try a Festival turkey drumstick and browse the Festival's Crafter Marketplace offering over 50 unique shops of candles\, toys\, face and body art\, jewelry\, apparel and more. For a detailed schedule of daily activities and upcoming themed weekends visit <a title="Michigan Renaissance Festival " href="http://www.michrenfest.com/index.html" target="_blank">www.michrenfest.com</a>. Always free parking. Open rain or shine.
LOCATION:Michigan Renaissance Festival 12600 Dixie Highway Holly Michigan
UID:e.2606.431
SEQUENCE:3
DTSTAMP:20260421T234527Z
URL:https://members.flintandgeneseechamber.org/events/details/michigan-renaissance-festival-royal-pet-ale-fest-08-17-2013-431
END:VEVENT

END:VCALENDAR
