BEGIN:VCALENDAR
VERSION:2.0
PRODID:-//ChamberMaster//Event Calendar 2.0//EN
METHOD:PUBLISH
X-PUBLISHED-TTL:P3D
REFRESH-INTERVAL:P3D
CALSCALE:GREGORIAN
BEGIN:VEVENT
DTSTART:20130928T140000Z
DTEND:20130929T230000Z
X-MICROSOFT-CDO-ALLDAYEVENT:FALSE
SUMMARY:Michigan Renaissance Festival ''Sweet Endings''
DESCRIPTION:The Michigan Renaissance Festival celebrates the end of the season during its annual "Sweet Endings" weekend featuring a Chocolate Festival\, a Fencing Competition\, Wine Tasting\, Grape Stomp\, a Juggling Competition\, a Fudge Fling and a Couple's Chocolate Pie Eating Contest. Also\, be sure to check out the Festival's full-contact armored jousting tournaments\, try a Festival turkey drumstick and browse the Festival's Crafter Marketplace offering over 50 unique shops of candles\, toys\, face and body art\, jewelry\, apparel and more. For a detailed schedule of daily activities visit www.michrenfest.com. Always free parking. Open rain or shine.
X-ALT-DESC;FMTTYPE=text/html:The Michigan Renaissance Festival celebrates the end of the season during its annual "Sweet Endings" weekend featuring a Chocolate Festival\, a Fencing Competition\, Wine Tasting\, Grape Stomp\, a Juggling Competition\, a Fudge Fling and a Couple's Chocolate Pie Eating Contest. Also\, be sure to check out the Festival's full-contact armored jousting tournaments\, try a Festival turkey drumstick and browse the Festival's Crafter Marketplace offering over 50 unique shops of candles\, toys\, face and body art\, jewelry\, apparel and more. For a detailed schedule of daily activities visit <a title="Michigan Renaissance Festival " href="http://www.michrenfest.com/index.html" target="_blank">www.michrenfest.com</a>. Always free parking. Open rain or shine.
LOCATION:Michigan Renaissance Festival 12600 Dixie Highway Holly Michigan
UID:e.2606.442
SEQUENCE:3
DTSTAMP:20260421T220512Z
URL:https://members.flintandgeneseechamber.org/events/details/michigan-renaissance-festival-sweet-endings-09-28-2013-442
END:VEVENT

END:VCALENDAR
