BEGIN:VCALENDAR
VERSION:2.0
PRODID:-//ChamberMaster//Event Calendar 2.0//EN
METHOD:PUBLISH
X-PUBLISHED-TTL:P3D
REFRESH-INTERVAL:P3D
CALSCALE:GREGORIAN
BEGIN:VEVENT
DTSTART:20140719T130000Z
DTEND:20140720T003000Z
X-MICROSOFT-CDO-ALLDAYEVENT:FALSE
SUMMARY:Michigan Storytellers Festival
DESCRIPTION:It's free fun for all INSIDE the Flint Public Library. Don't miss this Flint tradition of master storytellers who bring the oral tradition to life. As always there will be several workshops and storytelling during the day with special concert storytellers beginning at 6:30 p.m. For details and a schedule of upcoming events visit www.fpl.info.
X-ALT-DESC;FMTTYPE=text/html:It's free fun for all INSIDE the Flint Public Library. Don't miss this Flint tradition of master storytellers who bring the oral tradition to life. As always there will be several workshops and storytelling during the day with special concert storytellers beginning at 6:30 p.m. For details and a schedule of upcoming events visit <a title="Michigan Storytellers Festival" href="http://www.fpl.info/" target="_blank">www.fpl.info</a>.
LOCATION:Flint Public Library - Main Branch 1026 E. Kearsley Street Flint Michigan 48503
UID:e.2606.1080
SEQUENCE:3
DTSTAMP:20260421T085518Z
URL:https://members.flintandgeneseechamber.org/events/details/michigan-storytellers-festival-07-19-2014-1080
END:VEVENT

END:VCALENDAR
