BEGIN:VCALENDAR
VERSION:2.0
PRODID:-//ChamberMaster//Event Calendar 2.0//EN
METHOD:PUBLISH
X-PUBLISHED-TTL:P3D
REFRESH-INTERVAL:P3D
CALSCALE:GREGORIAN
BEGIN:VEVENT
DTSTART:20130720T133000Z
DTEND:20130721T003000Z
X-MICROSOFT-CDO-ALLDAYEVENT:FALSE
SUMMARY:Michigan Storytellers Festival - Flint
DESCRIPTION:Don't miss this FREE event featuring master storytellers who bring the oral tradition to life. There will be several workshops and storytelling concerts beginning at 6:30 p.m. For a detailed schedule of activities visit www.fpl.info.
X-ALT-DESC;FMTTYPE=text/html:Don't miss this FREE event featuring master storytellers who bring the oral tradition to life. There will be several workshops and storytelling concerts beginning at 6:30 p.m. For a detailed schedule of activities visit <a title="Flint Public Library " href="http://www.fpl.info/" target="_blank">www.fpl.info</a>.
LOCATION:Flint Public Library - Main Branch 1026 E. Kearsley Street Flint Michigan 48503
UID:e.2606.111
SEQUENCE:3
DTSTAMP:20260422T005752Z
URL:https://members.flintandgeneseechamber.org/events/details/michigan-storytellers-festival-flint-07-20-2013-111
END:VEVENT

END:VCALENDAR
