BEGIN:VCALENDAR
VERSION:2.0
PRODID:-//ChamberMaster//Event Calendar 2.0//EN
METHOD:PUBLISH
X-PUBLISHED-TTL:P3D
REFRESH-INTERVAL:P3D
CALSCALE:GREGORIAN
BEGIN:VEVENT
DTSTART:20140425T230000Z
DTEND:20140426T010000Z
X-MICROSOFT-CDO-ALLDAYEVENT:FALSE
SUMMARY:Michigan Warriors Playoff Hockey Game
DESCRIPTION:The Michigan Warriors hockey team will play against the Port Huron Fighting Falcons during the Division Finals Game 3. The Michigan Warriors are a Tier II Junior A ice hockey team and play in the North American Hockey League's North Division. The team represents a continuation of Flint's rich hockey tradition. (Division Finals Game 4 may follow). For details and a schedule of upcoming events visit www.peraniarena.com.
X-ALT-DESC;FMTTYPE=text/html:The Michigan Warriors hockey team will play against the Port Huron Fighting Falcons during the Division Finals Game 3. The Michigan Warriors are a Tier II Junior A ice hockey team and play in the North American Hockey League's North Division. The team represents a continuation of Flint's rich hockey tradition. (Division Finals Game 4 may follow). For details and a schedule of upcoming events visit <a title="Michigan Warriors Hockey " href="http://www.peraniarena.com/" target="_blank">www.peraniarena.com</a>.\n\n&nbsp\;
LOCATION:Perani Arena & Event Center 3501 Lapeer Road Flint Michigan
UID:e.2606.885
SEQUENCE:3
DTSTAMP:20260421T113926Z
URL:https://members.flintandgeneseechamber.org/events/details/michigan-warriors-playoff-hockey-game-04-25-2014-885
END:VEVENT

END:VCALENDAR
