BEGIN:VCALENDAR
VERSION:2.0
PRODID:-//ChamberMaster//Event Calendar 2.0//EN
METHOD:PUBLISH
X-PUBLISHED-TTL:P3D
REFRESH-INTERVAL:P3D
CALSCALE:GREGORIAN
BEGIN:VEVENT
DTSTART;VALUE=DATE:20130704
DTEND;VALUE=DATE:20130707
TRANSP:TRANSPARENT
X-MICROSOFT-CDO-ALLDAYEVENT:TRUE
SUMMARY:Mid-Michigan Firestix Softball Tournament
DESCRIPTION:Come watch this exciting softball tournament. Overnight reservations can be made at the following Flint & Genesee hotels:\nAmericas Best Value Inn & Suites - (810) 233-9000\nComfort Inn & Suites - Grand Blanc - (810) 694-0000\nCourtyard by Marriott - (810) 232-3500\nFairfield Inn & Suites - (810) 629-0400\nHampton Inn & Suites - (810) 234-8400\nHoliday Inn Express - Grand Blanc - (810) 695-3000\nHoliday Inn Gateway Centre - (810) 232-5300\nWingate by Wyndham - (810) 694-9900
X-ALT-DESC;FMTTYPE=text/html:Come watch this exciting softball tournament. Overnight reservations can be made at the following Flint &amp\; Genesee hotels:\nAmericas Best Value Inn &amp\; Suites - (810) 233-9000\nComfort Inn &amp\; Suites - Grand Blanc - (810) 694-0000\nCourtyard by Marriott - (810) 232-3500\nFairfield Inn &amp\; Suites - (810) 629-0400\nHampton Inn &amp\; Suites - (810) 234-8400\nHoliday Inn Express - Grand Blanc - (810) 695-3000\nHoliday Inn Gateway Centre - (810) 232-5300\nWingate by Wyndham - (810) 694-9900\n\n&nbsp\;
LOCATION:Creasey Bicentennial Park 1505 E. Grand Blanc Road Grand Blanc Michigan
UID:e.2606.223
SEQUENCE:3
DTSTAMP:20260422T004856Z
URL:https://members.flintandgeneseechamber.org/events/details/mid-michigan-firestix-softball-tournament-07-04-2013-223
END:VEVENT

END:VCALENDAR
