BEGIN:VCALENDAR
VERSION:2.0
PRODID:-//ChamberMaster//Event Calendar 2.0//EN
METHOD:PUBLISH
X-PUBLISHED-TTL:P3D
REFRESH-INTERVAL:P3D
CALSCALE:GREGORIAN
BEGIN:VEVENT
DTSTART:20140122T223000Z
DTEND:20140123T003000Z
X-MICROSOFT-CDO-ALLDAYEVENT:FALSE
SUMMARY:MLive Media Group Multi-Chamber Networking Snowfest Reception
DESCRIPTION:Join the MLive Media Group for a multi-Chamber networking after-hours reception at the Snowfest Celebration Warming Tent (behind Zehnder's in Frankenmuth).\n\nFriendly dialogue\, cocktails and hors d'oeuvres provided. No Charge for Chamber Members\, RSVP required.\n\nTo Register: 2014snowfestchamber.eventbright.com
X-ALT-DESC;FMTTYPE=text/html:Join the MLive Media Group for a multi-Chamber networking after-hours reception at the Snowfest Celebration Warming Tent (behind Zehnder's in Frankenmuth).\n\nFriendly dialogue\, cocktails and hors d'oeuvres provided. No Charge for Chamber Members\, RSVP required.\n\nTo Register: <a href="http://2014snowfestchamber.eventbright.com" target="_blank">2014snowfestchamber.eventbright.com</a>
LOCATION:Snowfest Celebration Warming Tent (behind Zehnder's in Frankenmuth) 730 S Main St. Frankenmuth MI 48734
UID:e.2606.634
SEQUENCE:3
DTSTAMP:20260421T155922Z
URL:https://members.flintandgeneseechamber.org/events/details/mlive-media-group-multi-chamber-networking-snowfest-reception-01-22-2014-634
END:VEVENT

END:VCALENDAR
