BEGIN:VCALENDAR
VERSION:2.0
PRODID:-//ChamberMaster//Event Calendar 2.0//EN
METHOD:PUBLISH
X-PUBLISHED-TTL:P3D
REFRESH-INTERVAL:P3D
CALSCALE:GREGORIAN
BEGIN:VEVENT
DTSTART:20130627T173000Z
DTEND:20130627T183000Z
X-MICROSOFT-CDO-ALLDAYEVENT:FALSE
SUMMARY:MMTC Webinar: Family Business Advisor Program
DESCRIPTION:Michigan Manufacturing Technology Center (MMTC) is presenting this free webinar for anyone interested in more information on this succession planning opportunity.\n\nIt’s a fact\; all business owners will exit their business at some time. When it happens\, and with how much control depends on their preparation. Owners spend a lifetime building their businesses but often give little thought to what will happen before they are ready to retire. Without a well-developed plan\, the business will suffer disruptions\, projects will come to a halt and employee morale will fall. The continuation of the organization may become unclear. Failure to plan could sow the seeds for costly litigation\, as expectations about unreasonable wealth distribution and rights to ownership may have been formed.\n\nKey Focus Areas\n\n\n\n\n\n	Strategy Planning\n	Succession Planning\n	Transition Strategy\n	Family Councils\n	Training Needs Analysis\n	Executive Coaching\n\n\n\n\n	Trusts\n	Operating Agreement\n	Financial Planning\n	By/Sell Agreement\n	"Key Man" Insurance\n	Business Valuation\n\n\n\n\n\nFor more information or to register\, please contact Chelsea Schutz at: 810-600-1437 or ptac@flintandgenesee.org
X-ALT-DESC;FMTTYPE=text/html:Michigan Manufacturing Technology Center (MMTC) is presenting this free webinar for anyone interested in more information on this succession planning opportunity.\n\nIt’s a fact\; all business owners will exit their business at some time. When it happens\, and with how much control depends on their preparation. Owners spend a lifetime building their businesses but often give little thought to what will happen before they are ready to retire. Without a well-developed plan\, the business will suffer disruptions\, projects will come to a halt and employee morale will fall. The continuation of the organization may become unclear. Failure to plan could sow the seeds for costly litigation\, as expectations about unreasonable wealth distribution and rights to ownership may have been formed.\n\n<strong>Key Focus Areas</strong>\n<table>\n<tbody>\n<tr>\n<td align="left" valign="top">\n<ul>\n	<li>Strategy Planning</li>\n	<li>Succession Planning</li>\n	<li>Transition Strategy</li>\n	<li>Family Councils</li>\n	<li>Training Needs Analysis</li>\n	<li>Executive Coaching</li>\n</ul>\n</td>\n<td align="left" valign="top">\n<ul>\n	<li>Trusts</li>\n	<li>Operating Agreement</li>\n	<li>Financial Planning</li>\n	<li>By/Sell Agreement</li>\n	<li>"Key Man" Insurance</li>\n	<li>Business Valuation</li>\n</ul>\n</td>\n</tr>\n</tbody>\n</table>\n<strong>For more information or to register\, please contact Chelsea Schutz at: 810-600-1437 or <a href="mailto:ptac@flintandgenesee.org">ptac@flintandgenesee.org</a> </strong>
LOCATION:
UID:e.2606.187
SEQUENCE:3
DTSTAMP:20260422T023118Z
URL:https://members.flintandgeneseechamber.org/events/details/mmtc-webinar-family-business-advisor-program-06-27-2013-187
END:VEVENT

END:VCALENDAR
