BEGIN:VCALENDAR
VERSION:2.0
PRODID:-//ChamberMaster//Event Calendar 2.0//EN
METHOD:PUBLISH
X-PUBLISHED-TTL:P3D
REFRESH-INTERVAL:P3D
CALSCALE:GREGORIAN
BEGIN:VEVENT
DTSTART:20130713T160000Z
DTEND:20130922T210000Z
X-MICROSOFT-CDO-ALLDAYEVENT:FALSE
SUMMARY:''Modern Dialect'' exhibition at the Flint Institute of Arts
DESCRIPTION:These American paintings from the John and Susan Horseman Collection brings together more than 50 American Scene and modernist paintings from the 1930s and 1940s. The exhibition reveals both the shared concerns and jubilations of artists from every region of the country during a fluctuating and demanding time in American history. From simplified and fragmented rural landscapes to modern industrial cities and the people that inhabit them to purely abstract compositions\, Modern Dialect illustrates the scope of the American modernist aesthetic and the vision and integrity each artist brought to the representation of the American experience.\n\nFIA is open Monday-Wednesday & Friday 12 p.m. to 5 p.m.\, Thursday 12 p.m. to 9 p.m.\, Saturday 10 a.m. to 5 p.m. and Sunday 1 p.m. to 5 p.m. For details and a schedule of upcoming exhibits visit www.flintarts.org.
X-ALT-DESC;FMTTYPE=text/html:These American paintings from the John and Susan Horseman Collection brings together more than 50 American Scene and modernist paintings from the 1930s and 1940s. The exhibition reveals both the shared concerns and jubilations of artists from every region of the country during a fluctuating and demanding time in American history. From simplified and fragmented rural landscapes to modern industrial cities and the people that inhabit them to purely abstract compositions\, <em>Modern Dialect</em> illustrates the scope of the American modernist aesthetic and the vision and integrity each artist brought to the representation of the American experience.\n\nFIA is open Monday-Wednesday &amp\; Friday 12 p.m. to 5 p.m.\, Thursday 12 p.m. to 9 p.m.\, Saturday 10 a.m. to 5 p.m. and Sunday 1 p.m. to 5 p.m. For details and a schedule of upcoming exhibits visit <a title="Flint Institute of Arts" href="http://flintarts.org" target="_blank">www.flintarts.org</a>.
LOCATION:Flint Institute of Arts 1120 E. Kearsley Street Flint MI 48502
UID:e.2606.234
SEQUENCE:3
DTSTAMP:20260421T220431Z
URL:https://members.flintandgeneseechamber.org/events/details/modern-dialect-exhibition-at-the-flint-institute-of-arts-07-13-2013-234
END:VEVENT

END:VCALENDAR
