BEGIN:VCALENDAR
VERSION:2.0
PRODID:-//ChamberMaster//Event Calendar 2.0//EN
METHOD:PUBLISH
X-PUBLISHED-TTL:P3D
REFRESH-INTERVAL:P3D
CALSCALE:GREGORIAN
BEGIN:VEVENT
DTSTART:20250115T223000Z
DTEND:20250116T000000Z
X-MICROSOFT-CDO-ALLDAYEVENT:FALSE
SUMMARY:MTA Flint Public Townhall Meeting
DESCRIPTION:A Mass Transportation Authority (MTA) Flint public townhall meeting will take place Wednesday\, January 15\, 2025 from 5:30-7 p.m. at Community First\, Inc.'s Community Enrichment Center\, 322 E. Hamilton Ave.\, Flint\, MI 48505. The purpose of the meeting is to hear public comments on a 2024 study of MTA's primary route system. MTA is excited to share the results of the 2024 study and they want the public to be part of this townhall forum to inform\, react\, reflect\, and discuss. MTA will show attendees what planners saw on the ground\, what was heard from riders\, residents\, and drivers\, and what the best options could be for the future of the transit system. The community's input has been a part of this process since the beginning and people are encouraged to attend the townhall to continue the conversation. The event is being hosted by Communities First\, Inc.
X-ALT-DESC;FMTTYPE=text/html:A Mass Transportation Authority (MTA) Flint public townhall meeting will take place Wednesday\, January 15\, 2025 from 5:30-7 p.m. at Community First\, Inc.&#39\;s Community Enrichment Center\, 322 E. Hamilton Ave.\, Flint\, MI 48505. The purpose of the meeting is to hear public comments on a 2024 study of MTA&#39\;s primary route system. MTA is excited to share the results of the 2024 study and they want the public to be part of this townhall forum to inform\, react\, reflect\, and discuss. MTA will show attendees what planners saw on the ground\, what was heard from riders\, residents\, and drivers\, and what the best options could be for the future of the transit system. The community&#39\;s input has been a part of this process since the beginning and people are encouraged to attend the townhall to continue the conversation. The event is being hosted by Communities First\, Inc.
LOCATION:Community Enrichment Center\, 322 E. Hamilton Ave.\, Flint\, MI 48505
UID:e.2606.18871
SEQUENCE:3
DTSTAMP:20260422T150754Z
URL:https://members.flintandgeneseechamber.org/events/details/mta-flint-public-townhall-meeting-18871
END:VEVENT

END:VCALENDAR
