BEGIN:VCALENDAR
VERSION:2.0
PRODID:-//ChamberMaster//Event Calendar 2.0//EN
METHOD:PUBLISH
X-PUBLISHED-TTL:P3D
REFRESH-INTERVAL:P3D
CALSCALE:GREGORIAN
BEGIN:VEVENT
DTSTART:20131120T230000Z
DTEND:20131121T020000Z
X-MICROSOFT-CDO-ALLDAYEVENT:FALSE
SUMMARY:Multi-Chamber Cosmic Glow Bowling Event
DESCRIPTION:Chamber members\, their familiy\, friends\, co-workers\, clients and vendors are invited to this multi-chamber holiday kick-off event.  Not a bowler? Don't worry\, come for the pizza\, drinks\, prizes\, give-a-ways and Karaoke. Contests throughout the evening including Ugly Sweater\, Karaoke and Bad Bowler.\n\nCost:  $10 per person at the door and includes bowling\, shoes\, pizza and one drink ticket\n\nQuestions:  Contact Frank Pepp at (810) 423-1648 or email frank@bowlflint.com\n\nSponsoring Chambers:  Flint & Genesee\, Davison Area\, Swartz Creek\, Flushing and Burton
X-ALT-DESC;FMTTYPE=text/html:Chamber members\, their familiy\, friends\, co-workers\, clients and vendors are invited to this multi-chamber holiday kick-off event.  Not a bowler? Don't worry\, come for the pizza\, drinks\, prizes\, give-a-ways and Karaoke. Contests throughout the evening including Ugly Sweater\, Karaoke and Bad Bowler.\n\nCost:  $10 per person at the door and includes bowling\, shoes\, pizza and one drink ticket\n\nQuestions:  Contact Frank Pepp at (810) 423-1648 or email frank@bowlflint.com\n\n<em>Sponsoring Chambers:  Flint &amp\; Genesee\, Davison Area\, Swartz Creek\, Flushing and Burton</em>
LOCATION:B's Bowling 750 S. Center Rd. Flint MI 48506
UID:e.2606.606
SEQUENCE:3
DTSTAMP:20260421T184806Z
URL:https://members.flintandgeneseechamber.org/events/details/multi-chamber-cosmic-glow-bowling-event-11-20-2013-606
END:VEVENT

END:VCALENDAR
