BEGIN:VCALENDAR
VERSION:2.0
PRODID:-//ChamberMaster//Event Calendar 2.0//EN
METHOD:PUBLISH
X-PUBLISHED-TTL:P3D
REFRESH-INTERVAL:P3D
CALSCALE:GREGORIAN
BEGIN:VEVENT
DTSTART:20131120T230000Z
DTEND:20131121T020000Z
X-MICROSOFT-CDO-ALLDAYEVENT:FALSE
SUMMARY:Multi Chamber Fun Night at B's Bowling
DESCRIPTION:B's Bowling\n\n750 Center Rd.\, Flint\n\nContests: Ugly Sweater\, Karaoke and Bad Bowler\n\nCost: $10\, bowling\, pizza\, one drink\n\nRSVP - Swight@flintandgenesee.org
X-ALT-DESC;FMTTYPE=text/html:B's Bowling\n\n750 Center Rd.\, Flint\n\nContests: Ugly Sweater\, Karaoke and Bad Bowler\n\nCost: $10\, bowling\, pizza\, one drink\n\nRSVP - Swight@flintandgenesee.org\n\n&nbsp\;
LOCATION:
UID:e.2606.619
SEQUENCE:3
DTSTAMP:20260421T184837Z
URL:https://members.flintandgeneseechamber.org/events/details/multi-chamber-fun-night-at-b-s-bowling-11-20-2013-619
END:VEVENT

END:VCALENDAR
