BEGIN:VCALENDAR
VERSION:2.0
PRODID:-//ChamberMaster//Event Calendar 2.0//EN
METHOD:PUBLISH
X-PUBLISHED-TTL:P3D
REFRESH-INTERVAL:P3D
CALSCALE:GREGORIAN
BEGIN:VEVENT
DTSTART:20190625T143000Z
DTEND:20190625T153000Z
X-MICROSOFT-CDO-ALLDAYEVENT:FALSE
SUMMARY:My Cub and Me: Nature Toddler Time
DESCRIPTION:Get outside\, get active\, and explore! This program is designed for parents with small children to help encourage a love for the outdoors at a young age. Meet at For-Mar's Visitors Center for stretching and a story. Dress for the weather. Recommended for families with toddlers. Pre-registration by 6/24. For more information and a schedule of upcoming For-Mar/Genesee County Parks events visit geneseecountyparks.org.
X-ALT-DESC;FMTTYPE=text/html:Get outside\, get active\, and explore! This program is designed for parents with small children to help encourage a love for the outdoors at a young age. Meet at For-Mar&#39\;s Visitors Center for stretching and a story. Dress for the weather. Recommended for families with toddlers. Pre-registration by 6/24.&nbsp\;<span style="color: rgb(51\, 51\, 51)\; font-family: sans-serif\, Arial\, Verdana\, &quot\;Trebuchet MS&quot\;\; font-size: 13px\; background-color: rgb(255\, 255\, 255)\;">For more information and a schedule of upcoming For-Mar/Genesee County Parks events visit&nbsp\;</span><a href="http://geneseecountyparks.org/" style="color: rgb(7\, 130\, 193)\; font-family: sans-serif\, Arial\, Verdana\, &quot\;Trebuchet MS&quot\;\; font-size: 13px\;" target="_blank">geneseecountyparks.org</a><span style="color: rgb(51\, 51\, 51)\; font-family: sans-serif\, Arial\, Verdana\, &quot\;Trebuchet MS&quot\;\; font-size: 13px\; background-color: rgb(255\, 255\, 255)\;">.</span>
LOCATION:For-Mar Nature Preserve 2142 N. Genesee Road Burton\, MI 48509
UID:e.2606.9340
SEQUENCE:3
DTSTAMP:20260421T084853Z
URL:https://members.flintandgeneseechamber.org/events/details/my-cub-and-me-nature-toddler-time-9340
END:VEVENT

END:VCALENDAR
