BEGIN:VCALENDAR
VERSION:2.0
PRODID:-//ChamberMaster//Event Calendar 2.0//EN
METHOD:PUBLISH
X-PUBLISHED-TTL:P3D
REFRESH-INTERVAL:P3D
CALSCALE:GREGORIAN
BEGIN:VEVENT
DTSTART:20130621T180000Z
DTEND:20130621T230000Z
X-MICROSOFT-CDO-ALLDAYEVENT:FALSE
SUMMARY:National Flip Flop Day @ Tropical Smoothie Cafe - Flint & Fenton
DESCRIPTION:Tropical Smoothie Café in Flint & Fenton Hosts National Flip Flop Day Fundraiser for Camp Sunshine\nCustomers Wearing Flip Flops Receive Free Smoothie on June 21\, 2013\nCollecting Donations to Support Kids with Life-Threatening Illnesses \n June 21st marks the first official day of summer\, but it’s also Tropical Smoothie Café’s favorite holiday of the year – National Flip Flop Day\, an in-store fundraising event celebrating open toes and open hearts for a good cause.\n\nOn this day\, Tropical Smoothie Café\, located on Linden Road in Flint & Owen Road in Fenton\, will be giving away free 24 oz. Jetty Punch Smoothies\, between 2 p.m. and 7 p.m.\, to any customer wearing flip flops.  The cafés will be collecting donations for its national charity partner\, Camp Sunshine\, the only retreat in the nation whose mission is focused solely on addressing the effects of a life-threatening illness on every member of the immediate family – the ill child\, parents and siblings.  Last year\, Tropical Smoothie Café locations nationwide collectively gave away close to 200\,000 smoothies for the cause\, which equated to approximately $1 million in free smoothies.\n\nThe fundraising campaign started on May 10 and will conclude on National Flip Flop Day on June 21.  Customers can participate in a more traditional fundraising effort and show their support for this meaningful cause by purchasing colored Paper Flip Flops for $1 or Flip Flop Key Fobs for $5 (key fobs are good for 10% off purchases for the rest of the year).  Online donations are also accepted at www.nationalflipflopday.com.\n\nTo date\, Tropical Smoothie Café has donated $1.5 million to Camp Sunshine\, sending 750 children and their families to experience the camp. Last year\, Tropical Smoothie Café raised $400\,000 for Camp Sunshine and the brand plans to exceed that number in 2013 by raising $500\,000.\n\n“National Flip Flop Day is about more than Tropical Smoothie Café.  It’s about sending terminally ill children and their families to Camp Sunshine where they can focus on playing and having fun\, and also interact with people like themselves\, who truly understand and are intimately familiar with the experiences they are going through.  “This is my favorite time of the year because our entire franchise system bands together for one central cause\; it’s a beautiful thing.”  Harold Bowen\, Owner Flint & Fenton locations.\n\nTropical Smoothie Café in Flint & Fenton is open 7:00 am - 10:00 pm Monday -Friday\, Saturday 9:00 am - 10:00 pm & Sunday 10:00 am - 9:00 pm .  For more information\, please contact (810) 733-2100.
X-ALT-DESC;FMTTYPE=text/html:<p align="center"><strong>Tropical Smoothie Café in Flint &amp\; Fenton Hosts National Flip Flop Day Fundraiser for Camp Sunshine</strong></p>\n<p align="center"><strong><em>Customers Wearing Flip Flops Receive Free Smoothie on June 21\, 2013</em></strong></p>\n<p align="center"><strong><em>Collecting Donations to Support Kids with Life-Threatening Illnesses </em></strong></p>\n<strong> </strong>June 21st marks the first official day of summer\, but it’s also Tropical Smoothie Café’s favorite holiday of the year – National Flip Flop Day\, an in-store fundraising event celebrating open toes and open hearts for a good cause.\n\nOn this day\, <strong>Tropical Smoothie Café\, located on Linden Road in Flint &amp\; Owen Road in Fenton</strong>\, will be giving away <strong>free 24 oz. Jetty Punch Smoothies</strong>\, <strong>between 2 p.m. and 7 p.m.\, t</strong>o <strong>any customer wearing flip flops</strong>.  The cafés will be collecting donations for its national charity partner\, Camp Sunshine\, the only retreat in the nation whose mission is focused solely on addressing the effects of a life-threatening illness on every member of the immediate family – the ill child\, parents and siblings.  Last year\, Tropical Smoothie Café locations nationwide collectively gave away close to 200\,000 smoothies for the cause\, which equated to approximately $1 million in free smoothies.\n\nThe fundraising campaign started on May 10 and will conclude on National Flip Flop Day on June 21.  Customers can participate in a more traditional fundraising effort and show their support for this meaningful cause by purchasing colored Paper Flip Flops for $1 or Flip Flop Key Fobs for $5 (key fobs are good for 10% off purchases for the rest of the year).  Online donations are also accepted at <a href="http://www.nationalflipflopday.com/">www.nationalflipflopday.com</a>.\n\nTo date\, Tropical Smoothie Café has donated $1.5 million to Camp Sunshine\, sending 750 children and their families to experience the camp. Last year\, Tropical Smoothie Café raised $400\,000 for Camp Sunshine and the brand plans to exceed that number in 2013 by raising $500\,000.\n\n“National Flip Flop Day is about more than Tropical Smoothie Café.  It’s about sending terminally ill children and their families to Camp Sunshine where they can focus on playing and having fun\, and also interact with people like themselves\, who truly understand and are intimately familiar with the experiences they are going through.  “This is my favorite time of the year because our entire franchise system bands together for one central cause\; it’s a beautiful thing.”  Harold Bowen\, Owner Flint &amp\; Fenton locations.\n\nTropical Smoothie Café in Flint &amp\; Fenton is open 7:00 am - 10:00 pm Monday -Friday\, Saturday 9:00 am - 10:00 pm &amp\; Sunday 10:00 am - 9:00 pm .  For more information\, please contact (810) 733-2100.
LOCATION:Tropical Smoothie Cafe 2103 S. Linden Rd. Flint MI 48532
UID:e.2606.190
SEQUENCE:3
DTSTAMP:20260422T023834Z
URL:https://members.flintandgeneseechamber.org/events/details/national-flip-flop-day-tropical-smoothie-cafe-flint-amp-fenton-06-21-2013-190
END:VEVENT

END:VCALENDAR
