BEGIN:VCALENDAR
VERSION:2.0
PRODID:-//ChamberMaster//Event Calendar 2.0//EN
METHOD:PUBLISH
X-PUBLISHED-TTL:P3D
REFRESH-INTERVAL:P3D
CALSCALE:GREGORIAN
BEGIN:VEVENT
DTSTART:20130629T230000Z
DTEND:20130630T003000Z
X-MICROSOFT-CDO-ALLDAYEVENT:FALSE
SUMMARY:Nature's Nightlights
DESCRIPTION:Learn about Nature's glow-in-the-dark creatures ... the ones you can see at For-Mar\, the ones that live deep in the ocean and the ones scientists have created. Look for glowing creatures at For-Mar and see a living glowing salamander. Recommended for families with children 5 years and older. For details and a schedule of upcoming events visit www.geneseecountyparks.org.
X-ALT-DESC;FMTTYPE=text/html:Learn about Nature's glow-in-the-dark creatures ... the ones you can see at For-Mar\, the ones that live deep in the ocean and the ones scientists have created. Look for glowing creatures at For-Mar and see a living glowing salamander. Recommended for families with children 5 years and older. For details and a schedule of upcoming events visit <a title="Genesee County Parks " href="http://geneseecountyparks.org" target="_blank">www.geneseecountyparks.org</a>.
LOCATION:For-Mar Nature Preserve 2142 N. Genesee Road Burton Michigan
UID:e.2606.231
SEQUENCE:3
DTSTAMP:20260422T023032Z
URL:https://members.flintandgeneseechamber.org/events/details/nature-s-nightlights-06-29-2013-231
END:VEVENT

END:VCALENDAR
